BEGIN:VCALENDAR
VERSION:2.0
PRODID:-//シンクプレイスFPオフィス - ECPv6.1.3//NONSGML v1.0//EN
CALSCALE:GREGORIAN
METHOD:PUBLISH
X-WR-CALNAME:シンクプレイスFPオフィス
X-ORIGINAL-URL:https://thinkplace.testweb.tech
X-WR-CALDESC:シンクプレイスFPオフィス のイベント
REFRESH-INTERVAL;VALUE=DURATION:PT1H
X-Robots-Tag:noindex
X-PUBLISHED-TTL:PT1H
BEGIN:VTIMEZONE
TZID:Asia/Tokyo
BEGIN:STANDARD
TZOFFSETFROM:+0900
TZOFFSETTO:+0900
TZNAME:JST
DTSTART:20180101T000000
END:STANDARD
END:VTIMEZONE
BEGIN:VEVENT
DTSTART;VALUE=DATE:20190612
DTEND;VALUE=DATE:20190613
DTSTAMP:20260421T151233
CREATED:20190509T055208Z
LAST-MODIFIED:20190509T060035Z
UID:945-1560297600-1560383999@thinkplace.testweb.tech
SUMMARY:～リアン～杉下 佳奈さんによる【TinyTeeth™️歯固めジュエリーワークショップ】
DESCRIPTION:レンタルスペース今回のイベントは \n～リアン～杉下 佳奈さんの「歯固めジュエリーワークショップ」です \n【イベント詳細】 \n\n日時:6月12日（水）\n\n時間:10:00-12:00\n\n場所:ThinkPlaceKawaguchi\nｼﾝｸﾌﾟﾚｲｽｶﾜｸﾞﾁ\n埼玉県川口市里1225-1\nﾒﾛｳｶﾌｪさん隣\n\n定員:6組様\n\n参加費:3000円\n（お菓子・ティータイム付）\n\n●歯固め●ブレスレット●ネックレス●シューズクリッパー\n●オモチャホルダー※オモチャホルダー製作のみ金具使用の為+200円となります。\n\n二つ目製作は2500円になります。\nオモチャホルダーは2700円。\n\n持ち物:抱っこ紐、飲み物\n\nテーブルでの製作になりますので抱っこ紐ご持参ください。\n\n\n\n\n詳しくは杉下さんのブログからチェックしてくださいネ\nhttps://ameblo.jp/1980kana1222/entry-12458001967.html\n\n\nご参加希望の方は当店でも承っております😊\nお気軽にお問い合わせください😊\nメール：mail-ha-kochirae@think-place.net もしくは下記までお電話ください
URL:https://thinkplace.testweb.tech/event/%ef%bd%9e%e3%83%aa%e3%82%a2%e3%83%b3%ef%bd%9e%e6%9d%89%e4%b8%8b-%e4%bd%b3%e5%a5%88%e3%81%95%e3%82%93%e3%81%ab%e3%82%88%e3%82%8b%e3%80%90tinyteeth%ef%b8%8f%e6%ad%af%e5%9b%ba%e3%82%81%e3%82%b8/
END:VEVENT
BEGIN:VEVENT
DTSTART;VALUE=DATE:20190607
DTEND;VALUE=DATE:20190608
DTSTAMP:20260421T151233
CREATED:20190509T053142Z
LAST-MODIFIED:20190509T053142Z
UID:941-1559865600-1559951999@thinkplace.testweb.tech
SUMMARY:シンクプレイス川口主催「乳がんセミナー」👨‍🏫
DESCRIPTION:シンクプレイス川口にて「乳がんセミナー」を開催致します。 \n  \nいま知っておくべき乳がんに関する知識、診断から入院・手術・退院後のこと、治療方法やそれにかかる費用のお話などについてご紹介致します。 \n① 乳がんの正しい理解~発症しやすい年代は？~ \n年齢別割合では30代から増加をはじめ、40代後半から50代前半でピークを迎えるというデータがあります。 \n② 乳がんの治療方法~手術や治療費について~ \n手術・薬物・放射線などそれぞれの治療方法や治療費例などをご紹介します。 \n③ 乳がんの早期発見方法~セルフチェック編~ \n7つのセルフチェック方法をご紹介します。 \n  \n\n 👩‍🏫乳がんセミナー詳細💕\n\n◆日時：6/7(金)PM開催※時間はお問い合わせください \n◇会場：シンクプレイス川口(鳩ケ谷駅より徒歩4分) \n◆参加費無料※事前予約制、女性限定開催 \n◇お茶菓子・ドリンク付・小さいお子様連れ大歓迎 \n◆お問い合わせ：048-229-2696/mail-ha-kochirae@take-o.jp(担当：山本) \n\nホームページ：https://thinkplace.testweb.tech/\nインスタグラム：@thinkplacekawaguchi\n\nお茶をしながらリラックスした雰囲気で行います。お子様連れも大歓迎ですので、\nお気軽にお問合せください😊\n\n 
URL:https://thinkplace.testweb.tech/event/%e3%82%b7%e3%83%b3%e3%82%af%e3%83%97%e3%83%ac%e3%82%a4%e3%82%b9%e5%b7%9d%e5%8f%a3%e4%b8%bb%e5%82%ac%e3%80%8c%e4%b9%b3%e3%81%8c%e3%82%93%e3%82%bb%e3%83%9f%e3%83%8a%e3%83%bc%e3%80%8d%f0%9f%91%a8-2/
END:VEVENT
BEGIN:VEVENT
DTSTART;VALUE=DATE:20190606
DTEND;VALUE=DATE:20190607
DTSTAMP:20260421T151233
CREATED:20190509T075011Z
LAST-MODIFIED:20190509T075011Z
UID:958-1559779200-1559865599@thinkplace.testweb.tech
SUMMARY:～小春日和～赤沢和枝さんによる【折花ワークショップ・父の日】
DESCRIPTION:レンタルスペース今回のイベントは \n🌷🌼～小春日和～赤沢和枝さんの【折花ワークショップ・父の日】です🌷🌼 \n\n【イベント詳細】 \n\n日時:6月6日（木）\n\n時間:10:00-16:30\n\n場所:ThinkPlaceKawaguchi\nｼﾝｸﾌﾟﾚｲｽｶﾜｸﾞﾁ\n埼玉県川口市里1225-1\nﾒﾛｳｶﾌｪさん隣\n\n好評だった前回に続き、当店では2回目の開催となります✨アロマディフューザーとして使える「折花」\nですが、当日はアロマセラピストの西野先生(http://aroma-fanta.com/)もご一緒に参加予定ですので、\nキレイなお花と素敵な香りが同時に楽しめますよ♪\n詳細は更新をもってお知らせいたします😊\n\n\n\n【お問い合わせ】\n◆～小春日和～赤沢和枝さん◆\nブログ：http://www.ko-harubiyori.com\nインスタ：@koharudo\n\nもしくはThink Place Kawaguchiのmail-ha-kochirae@think-place.netまでお願いします😊
URL:https://thinkplace.testweb.tech/event/%ef%bd%9e%e5%b0%8f%e6%98%a5%e6%97%a5%e5%92%8c%ef%bd%9e%e8%b5%a4%e6%b2%a2%e5%92%8c%e6%9e%9d%e3%81%95%e3%82%93%e3%81%ab%e3%82%88%e3%82%8b%e3%80%90%e6%8a%98%e8%8a%b1%e3%83%af%e3%83%bc%e3%82%af%e3%82%b7/
END:VEVENT
BEGIN:VEVENT
DTSTART;VALUE=DATE:20190520
DTEND;VALUE=DATE:20190521
DTSTAMP:20260421T151233
CREATED:20190509T052944Z
LAST-MODIFIED:20190509T052944Z
UID:939-1558310400-1558396799@thinkplace.testweb.tech
SUMMARY:シンクプレイス川口主催「乳がんセミナー」👨‍🏫
DESCRIPTION:シンクプレイス川口にて「乳がんセミナー」を開催致します。 \n  \nいま知っておくべき乳がんに関する知識、診断から入院・手術・退院後のこと、治療方法やそれにかかる費用のお話などについてご紹介致します。 \n① 乳がんの正しい理解~発症しやすい年代は？~ \n年齢別割合では30代から増加をはじめ、40代後半から50代前半でピークを迎えるというデータがあります。 \n② 乳がんの治療方法~手術や治療費について~ \n手術・薬物・放射線などそれぞれの治療方法や治療費例などをご紹介します。 \n③ 乳がんの早期発見方法~セルフチェック編~ \n7つのセルフチェック方法をご紹介します。 \n  \n\n 👩‍🏫乳がんセミナー詳細💕\n\n◆日時：5/20(月)PM開催※お時間お問い合わせください \n◇会場：シンクプレイス川口(鳩ケ谷駅より徒歩4分) \n◆参加費無料※事前予約制、女性限定開催 \n◇お茶菓子・ドリンク付・小さいお子様連れ大歓迎 \n◆お問い合わせ：048-229-2696/mail-ha-kochirae@take-o.jp(担当：山本) \n\nホームページ：https://thinkplace.testweb.tech/\nインスタグラム：@thinkplacekawaguchi\n\nお茶をしながらリラックスした雰囲気で行います。お子様連れも大歓迎ですので、\nお気軽にお問合せください😊\n\n 
URL:https://thinkplace.testweb.tech/event/%e3%82%b7%e3%83%b3%e3%82%af%e3%83%97%e3%83%ac%e3%82%a4%e3%82%b9%e5%b7%9d%e5%8f%a3%e4%b8%bb%e5%82%ac%e3%80%8c%e4%b9%b3%e3%81%8c%e3%82%93%e3%82%bb%e3%83%9f%e3%83%8a%e3%83%bc%e3%80%8d%f0%9f%91%a8/
END:VEVENT
BEGIN:VEVENT
DTSTART;VALUE=DATE:20190516
DTEND;VALUE=DATE:20190517
DTSTAMP:20260421T151233
CREATED:20190412T060426Z
LAST-MODIFIED:20190412T060426Z
UID:920-1557964800-1558051199@thinkplace.testweb.tech
SUMMARY:平林えりさんによる「お子様も使えるナチュラルなUVミルクつくり」
DESCRIPTION:レンタルスペース今回のイベントは \nメディカルアロマスクール　myroomaroma　平林えりさんの「お子様も使えるナチュラルなUVミルクつくり」です \n  \n気になるイベントの内容はこちら↓↓↓ \n\n\nはじめてのメディカルアロマ♪アロマ初心者の方向けレッスンです💚\n事前予約制となっております☎\n  \nワークショップ日程のご案内\n\n\n●日時：5月16日（木曜日） \n●場所：Think Place Kawaguchi \nhttps://thinkplace.testweb.tech/ \n●時間：①10:30〜12:00　②13:30〜15:00 \n時間は多少前後する可能性があります。 \n●講座代：2\,000円(クラフト材料費込) \n●ワークショップの内容 \n◆日焼けのメカニズム・日焼け対策アロマ \n◆1日5分のセルフケア \n◆アロマクラフト \nお申し込みは以下よりお願い致します😊✨ \ninfo@myroomaroma.com
URL:https://thinkplace.testweb.tech/event/%e5%b9%b3%e6%9e%97%e3%81%88%e3%82%8a%e3%81%95%e3%82%93%e3%81%ab%e3%82%88%e3%82%8b%e3%80%8c%e3%81%8a%e5%ad%90%e6%a7%98%e3%82%82%e4%bd%bf%e3%81%88%e3%82%8b%e3%83%8a%e3%83%81%e3%83%a5%e3%83%a9%e3%83%ab/
END:VEVENT
BEGIN:VEVENT
DTSTART;VALUE=DATE:20190510
DTEND;VALUE=DATE:20190511
DTSTAMP:20260421T151233
CREATED:20190417T050801Z
LAST-MODIFIED:20190417T081001Z
UID:922-1557446400-1557532799@thinkplace.testweb.tech
SUMMARY:シンクプレイス川口主催「乳がんセミナー」👨‍🏫
DESCRIPTION:シンクプレイス川口にて「乳がんセミナー」を開催致します。 \n  \nいま知っておくべき乳がんに関する知識、診断から入院・手術・退院後のこと、治療方法やそれにかかる費用のお話などについてご紹介致します。 \n① 乳がんの正しい理解~発症しやすい年代は？~ \n年齢別割合では30代から増加をはじめ、40代後半から50代前半でピークを迎えるというデータがあります。 \n② 乳がんの治療方法~手術や治療費について~ \n手術・薬物・放射線などそれぞれの治療方法や治療費例などをご紹介します。 \n③ 乳がんの早期発見方法~セルフチェック編~ \n7つのセルフチェック方法をご紹介します。 \n  \n\n 👩‍🏫乳がんセミナー詳細💕\n\n◆日時：5/10(金)13時~14時 \n◇会場：シンクプレイス川口(鳩ケ谷駅より徒歩4分) \n◆参加費無料※事前予約制、女性限定開催 \n◇お茶菓子・ドリンク付・小さいお子様連れ大歓迎 \n◆お問い合わせ：048-229-2696/mail-ha-kochirae@take-o.jp(担当：山本) \n\nホームページ：https://thinkplace.testweb.tech/\nインスタグラム：@thinkplacekawaguchi\n\nお茶をしながらリラックスした雰囲気で行います。お子様連れも大歓迎ですので、\nお気軽にお問合せください😊\n\n 
URL:https://thinkplace.testweb.tech/event/%e4%b9%b3%e3%81%8c%e3%82%93%e3%82%bb%e3%83%9f%e3%83%8a%e3%83%bc%e9%96%8b%e5%82%ac/
LOCATION:Think Place Kawaguchi\, 里１２２５−１\, 川口市\, 埼玉県\, 〒334-0005\, Japan
ORGANIZER;CN="Think%20Place%20Kawaguchi":MAILTO:mail-ha-kochirae@think-place.net
END:VEVENT
BEGIN:VEVENT
DTSTART;VALUE=DATE:20190508
DTEND;VALUE=DATE:20190509
DTSTAMP:20260421T151233
CREATED:20190412T053230Z
LAST-MODIFIED:20190412T053230Z
UID:910-1557273600-1557359999@thinkplace.testweb.tech
SUMMARY:小春日和さんによる「折花ワークショップ」
DESCRIPTION:レンタルスペース今回のイベントは \n小春日和さんの「折花ワークショップ」です \n  \nそのままでもとっても素敵なお花たちがアロマディフューザーにもなる優れもの😊🌺 \n  \n\n ワークショップのご案内\n\n\n●日時：5月8日（水曜日） \n●場所：Think Place Kawaguchi \nhttps://thinkplace.testweb.tech/ \n●時間：10:00〜17:00 \n時間は多少前後する可能性があります。 \n  \n普段は着付師・着付講師としてご活躍されている小春日和さん♪ \ninstagramで素敵な折花や着付の写真にたくさん出会えますのでぜひご覧ください! \nhttps://www.instagram.com/koharudo/ \n@koharudo
URL:https://thinkplace.testweb.tech/event/%e5%b0%8f%e6%98%a5%e6%97%a5%e5%92%8c%e3%81%95%e3%82%93%e3%81%ab%e3%82%88%e3%82%8b%e3%80%8c%e6%8a%98%e8%8a%b1%e3%83%af%e3%83%bc%e3%82%af%e3%82%b7%e3%83%a7%e3%83%83%e3%83%97%e3%80%8d/
END:VEVENT
BEGIN:VEVENT
DTSTART;TZID=Asia/Tokyo:20190329T110000
DTEND;TZID=Asia/Tokyo:20190329T130000
DTSTAMP:20260421T151233
CREATED:20190326T005336Z
LAST-MODIFIED:20190326T005336Z
UID:895-1553857200-1553864400@thinkplace.testweb.tech
SUMMARY:仲田弘子さんの「夢を語ろう会＆サンキャッチャーワークショップ」
DESCRIPTION:レンタルスペース3月最終日のイベントは \n仲田弘子さんの「夢を語ろう会＆サンキャッチャーワークショップ」です \n  \n気になるイベントの内容はこちら↓↓↓ \n  \n４月は子ども達は入学や進級🏫\n新しく社会人になる方々もいらっしゃると思います❣ \n新しくスタートすると言う事で\nご自身の今年の目的・目標を\nサンキャッチャーを作りながら\nご一緒にシェアしませんか？ \n1人では中々出来ない事も\n皆で意見交換しながら\n出来る事もあると思います。 \n目的を決めゴールを決めて目標を決める♡ \n参加希望の方は連絡下さ~い✨ \n日 時 ３月29日 11時~13時\n参加費 2300円(サンキャッチャー代含む \n  \n◇お店の打ち合わせ室をキッズスペースとして開放いたします。\n◇駐車場はございませんのでご注意ください。（近隣のコインパーキングをご利用ください） \n  \n仲田弘子さんのイベント紹介FBページ↓ \nhttps://www.facebook.com/permalink.php?story_fbid=778886059154202&id=100010984446326
URL:https://thinkplace.testweb.tech/event/%e4%bb%b2%e7%94%b0%e5%bc%98%e5%ad%90%e3%81%95%e3%82%93%e3%81%ae%e3%80%8c%e5%a4%a2%e3%82%92%e8%aa%9e%e3%82%8d%e3%81%86%e4%bc%9a%ef%bc%86%e3%82%b5%e3%83%b3%e3%82%ad%e3%83%a3%e3%83%83%e3%83%81%e3%83%a3/
END:VEVENT
BEGIN:VEVENT
DTSTART;TZID=Asia/Tokyo:20190124T103000
DTEND;TZID=Asia/Tokyo:20190124T120000
DTSTAMP:20260421T151233
CREATED:20190109T084029Z
LAST-MODIFIED:20190109T084029Z
UID:869-1548325800-1548331200@thinkplace.testweb.tech
SUMMARY:はじめてのメディカルアロマ
DESCRIPTION:昨年１１月に大好評だった、平林えり先生による『はじめてのメディカルアロマ』のレッスンが開催されます！\n家庭で使いやすい１０本のメディカルアロマの使い方のレクチャーと、家族で使える風邪予防スプレーを作成します。\nさらに、自分だけのオリジナルアロマクリームも作ってお持ち帰りいただけますよ♪ \n≪詳細≫\n内　容：風邪予防スプレー＆乾燥対策美肌クリーム作り♪\n開催日：１月２４日（木）\n時　間：１０：３０～１２：００\n場　所：Think Place Kawaguchi（鳩ヶ谷駅徒歩４分、Mellow Cafeさん隣）\n参加費：2\,000円（材料費込）\n◇キッズスペースをご準備いたします（見守りスタッフはおりません）。\n◇駐車場はございませんので、お近くのコインパーキングをご利用ください。 \n↓お申し込みはコチラから\nhttps://ameblo.jp/iyashiflower/entry-12431743825.html \n平林えり先生（ＭＡＳ認定マスターライセンスインストラクター）\nホームページ　www.myroomaroma.com
URL:https://thinkplace.testweb.tech/event/%e3%81%af%e3%81%98%e3%82%81%e3%81%a6%e3%81%ae%e3%83%a1%e3%83%87%e3%82%a3%e3%82%ab%e3%83%ab%e3%82%a2%e3%83%ad%e3%83%9e-2/
LOCATION:Think Place Kawaguchi\, 里１２２５−１\, 川口市\, 埼玉県\, 〒334-0005\, Japan
END:VEVENT
BEGIN:VEVENT
DTSTART;TZID=Asia/Tokyo:20190107T090000
DTEND;TZID=Asia/Tokyo:20190107T170000
DTSTAMP:20260421T151233
CREATED:20190107T015907Z
LAST-MODIFIED:20190107T015907Z
UID:866-1546851600-1546880400@thinkplace.testweb.tech
SUMMARY:新年のご挨拶
DESCRIPTION:  \nあけましておめでとうございます。\nシンクプレイスカワグチは、本日より通常通り営業しております！\n今年も、どうぞよろしくお願いいたします。 \n株式会社take-O\nシンクプレイスカワグチ
URL:https://thinkplace.testweb.tech/event/%e6%96%b0%e5%b9%b4%e3%81%ae%e3%81%94%e6%8c%a8%e6%8b%b6/
LOCATION:Think Place Kawaguchi\, 里１２２５−１\, 川口市\, 埼玉県\, 〒334-0005\, Japan
ORGANIZER;CN="Think%20Place%20Kawaguchi":MAILTO:mail-ha-kochirae@think-place.net
END:VEVENT
BEGIN:VEVENT
DTSTART;VALUE=DATE:20181229
DTEND;VALUE=DATE:20190107
DTSTAMP:20260421T151233
CREATED:20181225T050716Z
LAST-MODIFIED:20181225T050716Z
UID:862-1546041600-1546819199@thinkplace.testweb.tech
SUMMARY:年末年始休業日のお知らせ
DESCRIPTION:平素は当店をご愛顧いただきありがとうございます。\n誠に勝手ではございますが、下記日程にて年末年始のお休みを頂きますのでよろしくお願いいたします。 \n『平成３０年１２月２９日（土）～平成３１年１月６日（日）』 \n株式会社take-O\nシンクプレイスカワグチ
URL:https://thinkplace.testweb.tech/event/%e5%b9%b4%e6%9c%ab%e5%b9%b4%e5%a7%8b%e4%bc%91%e6%a5%ad%e6%97%a5%e3%81%ae%e3%81%8a%e7%9f%a5%e3%82%89%e3%81%9b/
LOCATION:Think Place Kawaguchi\, 里１２２５−１\, 川口市\, 埼玉県\, 〒334-0005\, Japan
ORGANIZER;CN="Think%20Place%20Kawaguchi":MAILTO:mail-ha-kochirae@think-place.net
END:VEVENT
BEGIN:VEVENT
DTSTART;TZID=Asia/Tokyo:20181218T103000
DTEND;TZID=Asia/Tokyo:20181218T140000
DTSTAMP:20260421T151233
CREATED:20181203T072854Z
LAST-MODIFIED:20181203T072854Z
UID:852-1545129000-1545141600@thinkplace.testweb.tech
SUMMARY:クリスマスケーキポップスレッスン
DESCRIPTION:主催者様　A’S sweet様（CEY Japan 認定講師） \n≪詳細≫\n内　容：クリスマスデザインのケーキポップス作成\n※CEY Japanの規定の元にレッスンを行います。\n開催日：１２月１８日（火）\n時　間：１０：３０～１４：００（お昼休憩は挟みません）\n場　所：Think Place Kawaguchi（鳩ヶ谷駅徒歩４分、Mellow Cafeさん隣）\n参加費：5\,800円（材料費、ケーキ代、チョコレート代を含む　※当日お支払いください）\n定　員：６名\n持ち物：エプロン・ハンドタオル・お持ち帰り用の袋・防寒用の服\n※チョコレートを扱うため暖房を使用しない設定にします。 \nお申し込み・お問い合わせは、下記の主催者様ページよりお願いいたします！ \nブログ↓\nhttps://ameblo.jp/assweet1001/entry-12423129269.html \nインスタグラム↓\nhttps://www.instagram.com/asami_inada/ \n※ケーキポップスの材料は、安全にお召し上がりいただけるものを使用しておりますが、\n　お召し上がりの際はご自身の責任でお願い致します。万が一事故が発生した場合、\n　教室では責任を負いかねますので、ご了承ください。
URL:https://thinkplace.testweb.tech/event/%e3%82%af%e3%83%aa%e3%82%b9%e3%83%9e%e3%82%b9%e3%82%b1%e3%83%bc%e3%82%ad%e3%83%9d%e3%83%83%e3%83%97%e3%82%b9%e3%83%ac%e3%83%83%e3%82%b9%e3%83%b3/
LOCATION:Think Place Kawaguchi\, 里１２２５−１\, 川口市\, 埼玉県\, 〒334-0005\, Japan
END:VEVENT
BEGIN:VEVENT
DTSTART;TZID=Asia/Tokyo:20180829T110000
DTEND;TZID=Asia/Tokyo:20180829T150000
DTSTAMP:20260421T151233
CREATED:20180723T012837Z
LAST-MODIFIED:20180723T012837Z
UID:777-1535540400-1535554800@thinkplace.testweb.tech
SUMMARY:ゆりかご手芸ぶぅ「手作りマーケット」♪
DESCRIPTION:鳩ケ谷で大人気のゆりかご手芸ぶぅさんの出張「手作りマーケット」 を開催します！ \n５月と同じく、✂️ゆりかご手芸ぶぅ✂️&🐸カエルのおやこ🐸の合同イベントです！ \nたくさんのかわいい商品が並びますので、ぜひご来店ください。 \nまた、今回はワークショップも開催されます！そちらもお楽しみに♪ \n当日はキッズスペースをご用意しております。 \nゆりかご手芸ぶぅＦＢページはこちら↓ \nhttps://www.facebook.com/yurikagoshugeiboo/ \n※当日駐車スペースも会場として利用してしまいます。\nお車でお越しの際は近隣のコインパーキング等をご利用下さい。
URL:https://thinkplace.testweb.tech/event/%e3%82%86%e3%82%8a%e3%81%8b%e3%81%94%e6%89%8b%e8%8a%b8%e3%81%b6%e3%81%85%e3%80%8c%e6%89%8b%e4%bd%9c%e3%82%8a%e3%83%9e%e3%83%bc%e3%82%b1%e3%83%83%e3%83%88%e3%80%8d%e2%99%aa-3/
LOCATION:Think Place Kawaguchi\, 里１２２５−１\, 川口市\, 埼玉県\, 〒334-0005\, Japan
END:VEVENT
BEGIN:VEVENT
DTSTART;TZID=Asia/Tokyo:20180731T100000
DTEND;TZID=Asia/Tokyo:20180731T120000
DTSTAMP:20260421T151233
CREATED:20180707T104830Z
LAST-MODIFIED:20180710T083745Z
UID:766-1533031200-1533038400@thinkplace.testweb.tech
SUMMARY:しのだむつみ講師の「ひまわりロゼットワークショップ」
DESCRIPTION:【開催日】\n7月31日(火)\n①10:00〜10:45 各回6名\n②11:00〜11:45\n\n【料金】\n800円(材料費、場所代、持ち帰り袋) \n【対象者】\n幼稚園児〜どなたでも\n※ハサミをまだ使えないお子様は保護者の方がお手伝いをお願いします。\n※小学生のお子様には必ず保護者の方の同席をお願いします。 \n【持ち物】\n◇裁ちバサミ又はよく切れるハサミ\n◇ウェットティッシュ \n【注意】\n◇ハサミを使用致します。\n怪我などないようご注意ください。\n一切の責任を負いかねます。\n◇講師には3歳と1歳の息子がおり、当日同席させていただきます。\nまた急な病気などやむを得ず中止となることもございます。ご理解よろしくお願い致します。\n◇お子様には必ず保護者様の同席をお願い致します。 \nお友達同士、ごきょうだい、親子でのご参加も大歓迎 \n \n【お申込み方法】 \n予約はこちから（しのださんのサイト）\nhttps://ws.formzu.net/fgen/S68832328/ \n当店のお申込みフォーム　または　お電話にて \nお問い合わせ \n \n\n048-229-2696
URL:https://thinkplace.testweb.tech/event/%e3%81%97%e3%81%ae%e3%81%a0%e3%82%80%e3%81%a4%e3%81%bf%e8%ac%9b%e5%b8%ab%e3%81%ae%e3%80%8c%e3%81%b2%e3%81%be%e3%82%8f%e3%82%8a%e3%83%ad%e3%82%bc%e3%83%83%e3%83%88%e3%83%af%e3%83%bc%e3%82%af%e3%82%b7/
LOCATION:Think Place Kawaguchi\, 里１２２５−１\, 川口市\, 埼玉県\, 〒334-0005\, Japan
END:VEVENT
BEGIN:VEVENT
DTSTART;TZID=Asia/Tokyo:20180711T100000
DTEND;TZID=Asia/Tokyo:20180711T130000
DTSTAMP:20260421T151233
CREATED:20180707T103137Z
LAST-MODIFIED:20180707T103227Z
UID:764-1531303200-1531314000@thinkplace.testweb.tech
SUMMARY:貸切予約
DESCRIPTION:
URL:https://thinkplace.testweb.tech/event/%e8%b2%b8%e5%88%87%e4%ba%88%e7%b4%84/
END:VEVENT
BEGIN:VEVENT
DTSTART;TZID=Asia/Tokyo:20180531T100000
DTEND;TZID=Asia/Tokyo:20180531T150000
DTSTAMP:20260421T151233
CREATED:20180524T054248Z
LAST-MODIFIED:20180524T054248Z
UID:757-1527760800-1527778800@thinkplace.testweb.tech
SUMMARY:ゆりかご手芸ぶぅ「手作りマーケット」♪
DESCRIPTION:鳩ケ谷で大人気のゆりかご手芸ぶぅさんの出張「手作りマーケット」 を開催します！ \n当店で開催するのは今回が2回目。 \n✂️ゆりかご手芸ぶぅ✂️&🐸カエルのおやこ🐸の合同イベントとしてパワーアップして開催して頂きます！ \n商品も沢山ご用意頂けれるとのことですので、皆さまこの機会をお見逃しなく！ \n当日はキッズスペースをご用意しておりますので、ママはのんびりお買い物できます♫ \nゆりかご手芸ぶぅＦＢページ \nhttps://www.facebook.com/yurikagoshugeiboo/ \n※当日駐車スペースも会場として利用してしまいます。\n　お車でお越しの際は近隣のコインパーキング等をご利用下さい。 \n 
URL:https://thinkplace.testweb.tech/event/%e3%82%86%e3%82%8a%e3%81%8b%e3%81%94%e6%89%8b%e8%8a%b8%e3%81%b6%e3%81%85%e3%80%8c%e6%89%8b%e4%bd%9c%e3%82%8a%e3%83%9e%e3%83%bc%e3%82%b1%e3%83%83%e3%83%88%e3%80%8d%e2%99%aa-2/
LOCATION:Think Place Kawaguchi\, 里１２２５−１\, 川口市\, 埼玉県\, 〒334-0005\, Japan
END:VEVENT
BEGIN:VEVENT
DTSTART;TZID=Asia/Tokyo:20180424T100000
DTEND;TZID=Asia/Tokyo:20180424T140000
DTSTAMP:20260421T151233
CREATED:20180315T064411Z
LAST-MODIFIED:20180322T054403Z
UID:682-1524564000-1524578400@thinkplace.testweb.tech
SUMMARY:ママサロン♬
DESCRIPTION:　　　　　　 \n＊＊＊ママサロン詳細＊＊＊ \n開催日時：定休日を除く毎週火曜日　１０：００～１４：００\n場所：Think Place Kawaguchi　内 \n・飲食持ち込み可能\n・場所の開放になりますので、保育士等はおりません\n・お湯・電子レンジあります\n・ベビーベッド・おむつ台あり\n・補助便座あり \nNEW！授乳用にロールスクリーンつけました！ \nガラス窓で見通しのいいキッズスペースを設置し、お母さんとお子さんが落ち着いて過ごせる場所です。 \nお弁当を持って親子でゆっくりランチを楽しんだり、ママさん同士の交流の場として活用していただければと思います。 \nあると便利なベビーグッズも随時更新していきますので、続報をお待ちください☆彡
URL:https://thinkplace.testweb.tech/event/%e3%83%9e%e3%83%9e%e3%82%b5%e3%83%ad%e3%83%b3%e2%99%ac-5/
LOCATION:Think Place Kawaguchi\, 里１２２５−１\, 川口市\, 埼玉県\, 〒334-0005\, Japan
ORGANIZER;CN="Think%20Place%20Kawaguchi":MAILTO:mail-ha-kochirae@think-place.net
END:VEVENT
BEGIN:VEVENT
DTSTART;TZID=Asia/Tokyo:20180417T100000
DTEND;TZID=Asia/Tokyo:20180417T140000
DTSTAMP:20260421T151233
CREATED:20180315T064039Z
LAST-MODIFIED:20180315T064039Z
UID:680-1523959200-1523973600@thinkplace.testweb.tech
SUMMARY:ママサロン♬
DESCRIPTION:　　　　　　 \n＊＊＊ママサロン詳細＊＊＊ \n開催日時：定休日を除く毎週火曜日　１０：００～１４：００\n場所：Think Place Kawaguchi　内 \n・飲食持ち込み可能\n・場所の開放になりますので、保育士等はおりません\n・お湯・電子レンジあります\n・ベビーベッド・おむつ台あり\n・補助便座あり \nNEW！授乳用にロールスクリーンつけました！ \nガラス窓で見通しのいいキッズスペースを設置し、お母さんとお子さんが落ち着いて過ごせる場所です。 \nお弁当を持って親子でゆっくりランチを楽しんだり、ママさん同士の交流の場として活用していただければと思います。 \nあると便利なベビーグッズも随時更新していきますので、続報をお待ちください☆彡
URL:https://thinkplace.testweb.tech/event/%e3%83%9e%e3%83%9e%e3%82%b5%e3%83%ad%e3%83%b3%e2%99%ac-4/
LOCATION:Think Place Kawaguchi\, 里１２２５−１\, 川口市\, 埼玉県\, 〒334-0005\, Japan
ORGANIZER;CN="Think%20Place%20Kawaguchi":MAILTO:mail-ha-kochirae@think-place.net
END:VEVENT
BEGIN:VEVENT
DTSTART;VALUE=DATE:20180406
DTEND;VALUE=DATE:20180407
DTSTAMP:20260421T151233
CREATED:20180403T005112Z
LAST-MODIFIED:20180403T005442Z
UID:749-1522972800-1523059199@thinkplace.testweb.tech
SUMMARY:臨時休業のお知らせ
DESCRIPTION:日頃は当店をご利用いただきましてありがとうございます。 \n誠に勝手ながら、４月６日（金）は終日お休みとさせていただきます。 \nお客様にはご不便をおかけしますが、何卒ご理解下さいますようお願いいたします。
URL:https://thinkplace.testweb.tech/event/%e8%87%a8%e6%99%82%e4%bc%91%e6%a5%ad%e3%81%ae%e3%81%8a%e7%9f%a5%e3%82%89%e3%81%9b-2/
LOCATION:Think Place Kawaguchi\, 里１２２５−１\, 川口市\, 埼玉県\, 〒334-0005\, Japan
ORGANIZER;CN="Think%20Place%20Kawaguchi":MAILTO:mail-ha-kochirae@think-place.net
END:VEVENT
BEGIN:VEVENT
DTSTART;TZID=Asia/Tokyo:20180403T100000
DTEND;TZID=Asia/Tokyo:20180403T140000
DTSTAMP:20260421T151233
CREATED:20180315T063856Z
LAST-MODIFIED:20180315T063856Z
UID:676-1522749600-1522764000@thinkplace.testweb.tech
SUMMARY:ママサロン♬
DESCRIPTION:　　　　　　 \n＊＊＊ママサロン詳細＊＊＊ \n開催日時：定休日を除く毎週火曜日　１０：００～１４：００\n場所：Think Place Kawaguchi　内 \n・飲食持ち込み可能\n・場所の開放になりますので、保育士等はおりません\n・お湯・電子レンジあります\n・ベビーベッド・おむつ台あり\n・補助便座あり \nNEW！授乳用にロールスクリーンつけました！ \nガラス窓で見通しのいいキッズスペースを設置し、お母さんとお子さんが落ち着いて過ごせる場所です。 \nお弁当を持って親子でゆっくりランチを楽しんだり、ママさん同士の交流の場として活用していただければと思います。 \nあると便利なベビーグッズも随時更新していきますので、続報をお待ちください☆彡
URL:https://thinkplace.testweb.tech/event/%e3%83%9e%e3%83%9e%e3%82%b5%e3%83%ad%e3%83%b3%e2%99%ac-2/
LOCATION:Think Place Kawaguchi\, 里１２２５−１\, 川口市\, 埼玉県\, 〒334-0005\, Japan
ORGANIZER;CN="Think%20Place%20Kawaguchi":MAILTO:mail-ha-kochirae@think-place.net
END:VEVENT
BEGIN:VEVENT
DTSTART;TZID=Asia/Tokyo:20180330T100000
DTEND;TZID=Asia/Tokyo:20180330T123000
DTSTAMP:20260421T151233
CREATED:20180322T033728Z
LAST-MODIFIED:20180322T035906Z
UID:707-1522404000-1522413000@thinkplace.testweb.tech
SUMMARY:ハーバリウム体験
DESCRIPTION:  \n  \n  \n春休み限定企画！～親子でハーバリウム体験～ \n  \nこんにちは、Think Place Kawaguchiです。 \nフォトジェニックで今話題のハーバリウムが再登場！ \n今回は春休み限定企画として、お試し価格で作れちゃいます。 \n一見難しそうなハーバリウムも、講師がしっかりサポートしてくれるので、お子様でも簡単に、楽しく製作していただけますので安心してご参加ください。 \n各回5組限定のスペシャルワークショップですので、お見逃しなく！ \n  \n  \n＊＊＊詳細＊＊＊ \n 日時：3月30日（金）①１０：００～１１：００　②１１：３０～１２：３０ \n場所：Think Place Kawaguchi\n参加費：ミニボトル１本／１，０００円 \n 主催：ハーバリウム教室　Salon de La-Flora　横森　裕美さん \nご予約、お問合せはお電話またはコチラからお気軽にご連絡ください。 \nThink Place Kawaguchi\ntel: 048-229-2696
URL:https://thinkplace.testweb.tech/event/%e6%98%a5%e4%bc%91%e3%81%bf%e3%83%8f%e3%83%bc%e3%83%90%e3%83%aa%e3%82%a6%e3%83%a0/
LOCATION:Think Place Kawaguchi\, 里１２２５−１\, 川口市\, 埼玉県\, 〒334-0005\, Japan
ORGANIZER;CN="%E3%83%8F%E3%83%BC%E3%83%90%E3%83%AA%E3%82%A6%E3%83%A0%E6%95%99%E5%AE%A4%E3%80%80Salon%20de%20La-Flora":MAILTO:info@la-flora.ocnk.net
END:VEVENT
BEGIN:VEVENT
DTSTART;TZID=Asia/Tokyo:20180328T110000
DTEND;TZID=Asia/Tokyo:20180328T120000
DTSTAMP:20260421T151233
CREATED:20180315T062049Z
LAST-MODIFIED:20180327T075516Z
UID:673-1522234800-1522238400@thinkplace.testweb.tech
SUMMARY:紙ねんどで惑星を作ろう！
DESCRIPTION:紙ねんどで惑星をつくろう！：イベント情報） – Think Place Kawaguchi \n  \n\n \n \n\n \n  \n小学生も大歓迎！春休みの工作体験 \nプチワークショップ『紙ねんどで惑星を作ろう！』 \n  \n太陽・水星・金星・地球・火星・木星・土星・天王星・海王星の中から好きな惑星を一つ作れます！ \nスタッフの指導はもちろん、写真付きの説明書もあるから簡単に作れますよ♪ \n  \n＊＊＊詳細＊＊＊ \n日時：３月２８日(水)　１１；００~ \n定員：５名 \n参加費：５００円／１名 \n主催：Think Place Kawaguchi（シンクプレイスカワグチ） \n  \n  \nご予約、お問合せはお電話またはコチラからお気軽にご連絡ください。  \n  \nThink Place Kawaguchi（シンクプレイスカワグチ） \n〒334-0005　埼玉県川口市里1225-1 \n048-229-2696 \n  \n  \n 
URL:https://thinkplace.testweb.tech/event/%e7%b4%99%e3%81%ad%e3%82%93%e3%81%a9%e3%81%a7%e6%83%91%e6%98%9f%e3%82%92%e4%bd%9c%e3%82%8d%e3%81%86%ef%bc%81/
LOCATION:Think Place Kawaguchi\, 里１２２５−１\, 川口市\, 埼玉県\, 〒334-0005\, Japan
ORGANIZER;CN="Think%20Place%20Kawaguchi":MAILTO:mail-ha-kochirae@think-place.net
END:VEVENT
BEGIN:VEVENT
DTSTART;TZID=Asia/Tokyo:20180327T100000
DTEND;TZID=Asia/Tokyo:20180327T140000
DTSTAMP:20260421T151233
CREATED:20180226T073421Z
LAST-MODIFIED:20180322T040648Z
UID:625-1522144800-1522159200@thinkplace.testweb.tech
SUMMARY:親子で作ろう！やることボード
DESCRIPTION:親子で作ろう！やることボード：イベント情報 – Think Place Kawaguchi \n  \n\n \n \n\n \n\n親子参加のワークショップ♪自分で身支度ができちゃう？！やることボードを作ろう！ \n 『親子で作ろう！やることボード』 \n 春の入園、入学、進級に向けて、お子さんが自分で楽しく身支度できる仕組みを作りませんか？\n 雑誌にも掲載されていたやることリストをお子さんとご一緒に作ります♪\nお子さんも、自分で作ったボードなら使う意欲が湧いて、率先して身支度してくれるかも？ \nご予約は不要。ママサロン開催時間内でしたらいつでもご参加していただけます！！ \n ＊＊＊詳細＊＊＊\n…\n日時：3月6日（火）・3月27日（火）10：00～14：00\n材料費：500円／1枚（デコレーションし放題）\n 持ち物：はさみ・カッター \nボードレイアウトは2種類からお選びいただけます。デザイン、デコレーションは自由です。\nはさみ、カッターを使用する際は大人の方が行ってください。 \nご予約、お問合せはお電話またはコチラからお気軽にご連絡ください。  \n\n 
URL:https://thinkplace.testweb.tech/event/%e8%a6%aa%e5%ad%90%e3%81%a7%e4%bd%9c%e3%82%8d%e3%81%86%ef%bc%81%e3%82%84%e3%82%8b%e3%81%93%e3%81%a8%e3%83%9c%e3%83%bc%e3%83%89-2/
LOCATION:Think Place Kawaguchi\, 里１２２５−１\, 川口市\, 埼玉県\, 〒334-0005\, Japan
ORGANIZER;CN="Think%20Place%20Kawaguchi":MAILTO:mail-ha-kochirae@think-place.net
END:VEVENT
BEGIN:VEVENT
DTSTART;TZID=Asia/Tokyo:20180327T100000
DTEND;TZID=Asia/Tokyo:20180327T140000
DTSTAMP:20260421T151233
CREATED:20180220T062700Z
LAST-MODIFIED:20180220T062700Z
UID:614-1522144800-1522159200@thinkplace.testweb.tech
SUMMARY:ママサロン♩
DESCRIPTION:　　　　　　 \n＊＊＊ママサロン詳細＊＊＊ \n開催日時：定休日を除く毎週火曜日　１０：００～１４：００\n 場所：Think Place Kawaguchi　内 \n・飲食持ち込み可能\n・場所の開放になりますので、保育士等はおりません\n ・お湯・電子レンジあります\n ・ベビーベッド・おむつ台あり\n ・補助便座あり \n　　NEW！授乳用にロールスクリーンつけました！ \nガラス窓で見通しのいいキッズスペースを設置し、お母さんとお子さんが落ち着いて過ごせる場所です。 \nお弁当を持って親子でゆっくりランチを楽しんだり、ママさん同士の交流の場として活用していただければと思います。 \nあると便利なベビーグッズも随時更新していきますので、続報をお待ちください☆彡
URL:https://thinkplace.testweb.tech/event/%e3%83%9e%e3%83%9e%e3%82%b5%e3%83%ad%e3%83%b3%e2%99%a9/
LOCATION:Think Place Kawaguchi\, 里１２２５−１\, 川口市\, 埼玉県\, 〒334-0005\, Japan
ORGANIZER;CN="Think%20Place%20Kawaguchi":MAILTO:mail-ha-kochirae@think-place.net
END:VEVENT
BEGIN:VEVENT
DTSTART;TZID=Asia/Tokyo:20180320T100000
DTEND;TZID=Asia/Tokyo:20180320T140000
DTSTAMP:20260421T151233
CREATED:20180220T062430Z
LAST-MODIFIED:20180220T063010Z
UID:612-1521540000-1521554400@thinkplace.testweb.tech
SUMMARY:ママサロン🎶
DESCRIPTION:　　　　　　 \n＊＊＊ママサロン詳細＊＊＊ \n開催日時：定休日を除く毎週火曜日　１０：００～１４：００\n 場所：Think Place Kawaguchi　内 \n・飲食持ち込み可能\n・場所の開放になりますので、保育士等はおりません\n ・お湯・電子レンジあります\n ・ベビーベッド・おむつ台あり\n ・補助便座あり \n　　NEW！授乳用にロールスクリーンつけました！ \nガラス窓で見通しのいいキッズスペースを設置し、お母さんとお子さんが落ち着いて過ごせる場所です。 \nお弁当を持って親子でゆっくりランチを楽しんだり、ママさん同士の交流の場として活用していただければと思います。 \nあると便利なベビーグッズも随時更新していきますので、続報をお待ちください☆彡
URL:https://thinkplace.testweb.tech/event/612/
LOCATION:Think Place Kawaguchi\, 里１２２５−１\, 川口市\, 埼玉県\, 〒334-0005\, Japan
ORGANIZER;CN="Think%20Place%20Kawaguchi":MAILTO:mail-ha-kochirae@think-place.net
END:VEVENT
BEGIN:VEVENT
DTSTART;TZID=Asia/Tokyo:20180319T103000
DTEND;TZID=Asia/Tokyo:20180319T120000
DTSTAMP:20260421T151233
CREATED:20180308T043817Z
LAST-MODIFIED:20180314T061150Z
UID:657-1521455400-1521460800@thinkplace.testweb.tech
SUMMARY:ママプチ勉強会『自動家計簿アプリ・マネーフォワードを使って家計簿をスリム化しよう』
DESCRIPTION:参加費無料・ケーキドリンク付き♪\nママプチ勉強会『家計簿アプリ・マネーフォワードを使って家計簿をスリム化しよう』こんにちは、Think Place Kawaguchiです。\n\n\n\n\n\n\n\nママプチ勉強会第２弾は『家計簿をスリム化』をテーマに、面倒な家計簿の記入や集計をマネーフォワードで正確に！！楽ちんに！家計の管理ができる『マネーフォワード』の使い方を勉強します。テレビCMでもお馴染みのマネーフォワード。登録が難しそう、使い方がわからない等で使わないのはもったいない！ \n・自分はどのくらい家計を把握できているの？\n・マネーフォワードの登録から操作方法…\n・家計簿予算の立て方って？\n・家計簿って何のためにつけるの？\n・節約のコツは？\n・よく耳にする保険の見直しって結局何のこと？ \nなど、皆さまの疑問に親身にお答えします！ \n＊＊＊詳細＊＊＊ \n 日時：３月１９日（月）１０：３０~１２：００\n 場所：Think Place Kawaguchi\n参加費：無料\n 持ち物：・スマートフォンやノートPCなど \n　　　　・レシート数枚（短いレシート・長いレシート両方あると尚可） \n 　　　  ・銀行口座のインターネットバンキングIDの記載のあるカードとパスワード \n　　　　・クレジットカードのWEBサイトのログインIDとパスワード \n　　　　・電子マネーや楽天、生協のログインIDとパスワードでも登録可能 \n口座情報等は当社に開示するものではなく、マネーフォワード登録時にご自身でご利用いただきます \n主催：Think Place Kawaguchi \nご予約はメール、またはお電話でお願いします \nThink Place Kawaguchi\nmail: mail-ha-kochirae@think-place.net\ntel: 048-229-2696 \n\n 
URL:https://thinkplace.testweb.tech/event/%e3%83%9e%e3%83%9e%e3%83%97%e3%83%81%e5%8b%89%e5%bc%b7%e4%bc%9a%e3%80%8e%e8%87%aa%e5%8b%95%e5%ae%b6%e8%a8%88%e7%b0%bf%e3%82%a2%e3%83%97%e3%83%aa%e3%83%bb%e3%83%9e%e3%83%8d%e3%83%bc%e3%83%95%e3%82%a9/
LOCATION:Think Place Kawaguchi\, 里１２２５−１\, 川口市\, 埼玉県\, 〒334-0005\, Japan
ORGANIZER;CN="Think%20Place%20Kawaguchi":MAILTO:mail-ha-kochirae@think-place.net
END:VEVENT
BEGIN:VEVENT
DTSTART;TZID=Asia/Tokyo:20180313T100000
DTEND;TZID=Asia/Tokyo:20180313T140000
DTSTAMP:20260421T151233
CREATED:20180220T061724Z
LAST-MODIFIED:20180220T061724Z
UID:610-1520935200-1520949600@thinkplace.testweb.tech
SUMMARY:ママサロン♬
DESCRIPTION:　　　　 \n＊＊＊ママサロン詳細＊＊＊ \n開催日時：定休日を除く毎週火曜日　１０：００～１４：００\n 場所：Think Place Kawaguchi　内 \n・飲食持ち込み可能\n・場所の開放になりますので、保育士等はおりません\n ・お湯・電子レンジあります\n ・ベビーベッド・おむつ台あり\n ・補助便座あり \n　　NEW！授乳用にロールスクリーンつけました！ \nガラス窓で見通しのいいキッズスペースを設置し、お母さんとお子さんが落ち着いて過ごせる場所です。 \nお弁当を持って親子でゆっくりランチを楽しんだり、ママさん同士の交流の場として活用していただければと思います。 \nあると便利なベビーグッズも随時更新していきますので、続報をお待ちください☆彡
URL:https://thinkplace.testweb.tech/event/%e3%83%9e%e3%83%9e%e3%82%b5%e3%83%ad%e3%83%b3%e2%99%ac/
LOCATION:Think Place Kawaguchi\, 里１２２５−１\, 川口市\, 埼玉県\, 〒334-0005\, Japan
ORGANIZER;CN="Think%20Place%20Kawaguchi":MAILTO:mail-ha-kochirae@think-place.net
END:VEVENT
BEGIN:VEVENT
DTSTART;TZID=Asia/Tokyo:20180312T100000
DTEND;TZID=Asia/Tokyo:20180312T140000
DTSTAMP:20260421T151233
CREATED:20180301T031515Z
LAST-MODIFIED:20180301T031515Z
UID:649-1520848800-1520863200@thinkplace.testweb.tech
SUMMARY:ごきげん暮らしラボ主催『お片づけお茶会』
DESCRIPTION:雑誌やメディアで話題のライフオーガナイザーに直接アドバイスがもらえるチャンス♪思考の整理整頓のプロ集団【ごきげん暮らしラボ】による、お片づけお茶会！\n\n\n\n\n\n\n\n\n\n\nこんにちは、Think Place Kawaguchi（シンクプレイスカワグチ）です。\n\n\n\n整理収納アドバイザーとともにメディアに取り上げられることが多いライフオーガナイザーによるお茶会イベントのお知らせ♪\n\n\n\n\nライフオーガナイザーをご存知ですか？\n\n\n整理収納アドバイザーが物を取捨選択し、収納スペースに収めるのに対し、ライフオーガナイザーの特徴は物を捨てないこと。\n\n\n物を捨てずに思考の整理整頓をすることで、ご自身に必要な物や、ライフスタイルを発見し、暮らしをより快適にするアドバイスをしてくれるプロです。\n\n\n\nそんな暮らしのプロのライフオーガナイザーに直接アドバイスをもらえるイベントを開催！\n\n\n\n\n＊＊＊詳細＊＊＊\n\n\n日時：3月12日（月）　10：00～12：00\n\n\n場所：Think Place Kawaguchi\n\n\n定員：8名（最小開催人数3名）\n\n\n参加費：500円（ワンドリンク付き）\n\n\n主催：ごきげん暮らしラボ\n\n\n\n\nご予約はメール、またはお電話でお願いします！\n\n\n\nThink Place Kawaguchi\n\n\n〒334-0005　埼玉県川口市里1225-1\n\n\n048-229-2696
URL:https://thinkplace.testweb.tech/event/%e3%81%94%e3%81%8d%e3%81%92%e3%82%93%e6%9a%ae%e3%82%89%e3%81%97%e3%83%a9%e3%83%9c%e4%b8%bb%e5%82%ac%e3%80%8e%e3%81%8a%e7%89%87%e3%81%a5%e3%81%91%e3%81%8a%e8%8c%b6%e4%bc%9a%e3%80%8f/
LOCATION:Think Place Kawaguchi\, 里１２２５−１\, 川口市\, 埼玉県\, 〒334-0005\, Japan
ORGANIZER;CN="Think%20Place%20Kawaguchi":MAILTO:mail-ha-kochirae@think-place.net
END:VEVENT
BEGIN:VEVENT
DTSTART;VALUE=DATE:20180309
DTEND;VALUE=DATE:20180310
DTSTAMP:20260421T151233
CREATED:20180308T073327Z
LAST-MODIFIED:20180308T073327Z
UID:662-1520553600-1520639999@thinkplace.testweb.tech
SUMMARY:臨時休業のお知らせ
DESCRIPTION:日頃は当店をご利用いただきましてありがとうございます。 \n誠に勝手ながら、３月９日はお休みさせていただきます。 \nお客様にはご不便をおかけしますが、何卒ご理解下さいますようお願いいたします。
URL:https://thinkplace.testweb.tech/event/%e8%87%a8%e6%99%82%e4%bc%91%e6%a5%ad%e3%81%ae%e3%81%8a%e7%9f%a5%e3%82%89%e3%81%9b/
LOCATION:Think Place Kawaguchi\, 里１２２５−１\, 川口市\, 埼玉県\, 〒334-0005\, Japan
ORGANIZER;CN="Think%20Place%20Kawaguchi":MAILTO:mail-ha-kochirae@think-place.net
END:VEVENT
BEGIN:VEVENT
DTSTART;TZID=Asia/Tokyo:20180308T110000
DTEND;TZID=Asia/Tokyo:20180308T150000
DTSTAMP:20260421T151233
CREATED:20180215T061507Z
LAST-MODIFIED:20180215T061507Z
UID:591-1520506800-1520521200@thinkplace.testweb.tech
SUMMARY:ゆりかご手芸ぶぅ「手作りマーケット」♪
DESCRIPTION:鳩ケ谷で大人気のゆりかご手芸ぶぅさんが、出張「手作りマーケット」を開催します！ \nキッズスペースもあるので、ママはのんびりお買い物できます♫ \n入園・進級準備にぜひ(^_-)-☆ \n  \n  \n  \n＊マスク（４サイズ）　　　￥１８０～ \n＊ナフキン（４サイズ）　　￥５００～ \n＊巾着（３サイズ）　　　　￥６００～ \n＊移動ポケット　　　　　　￥６００～ \n＊ガーゼハンカチ　　　　　￥３００～ \n＊レッスンバッグ　　　　　￥１５００～ \n＊シューズケース　　　　　￥１３００～ \n＊ランドセルカバー　　　　￥１４００～ \n＊ベビー小物各種　　　　　 \n＊ヘアアクセサリー各種 \n＊大人小物各種 \n  \nご来場お待ちしています(^^)/
URL:https://thinkplace.testweb.tech/event/%e3%82%86%e3%82%8a%e3%81%8b%e3%81%94%e6%89%8b%e8%8a%b8%e3%81%b6%e3%81%85%e3%80%8c%e6%89%8b%e4%bd%9c%e3%82%8a%e3%83%9e%e3%83%bc%e3%82%b1%e3%83%83%e3%83%88%e3%80%8d%e2%99%aa/
LOCATION:Think Place Kawaguchi\, 里１２２５−１\, 川口市\, 埼玉県\, 〒334-0005\, Japan
END:VEVENT
END:VCALENDAR