BEGIN:VCALENDAR
VERSION:2.0
PRODID:-//シンクプレイスFPオフィス - ECPv6.1.3//NONSGML v1.0//EN
CALSCALE:GREGORIAN
METHOD:PUBLISH
X-WR-CALNAME:シンクプレイスFPオフィス
X-ORIGINAL-URL:https://thinkplace.testweb.tech
X-WR-CALDESC:シンクプレイスFPオフィス のイベント
REFRESH-INTERVAL;VALUE=DURATION:PT1H
X-Robots-Tag:noindex
X-PUBLISHED-TTL:PT1H
BEGIN:VTIMEZONE
TZID:Asia/Tokyo
BEGIN:STANDARD
TZOFFSETFROM:+0900
TZOFFSETTO:+0900
TZNAME:JST
DTSTART:20200101T000000
END:STANDARD
END:VTIMEZONE
BEGIN:VEVENT
DTSTART;TZID=Asia/Tokyo:20201028T103000
DTEND;TZID=Asia/Tokyo:20201028T120000
DTSTAMP:20260420T134919
CREATED:20201006T020757Z
LAST-MODIFIED:20201006T020842Z
UID:1602-1603881000-1603886400@thinkplace.testweb.tech
SUMMARY:大澤さつきさんによる～❤︎ハロウィン❤︎ ナチュラルアイシングクッキー体験講座のご案内～
DESCRIPTION:❤︎ハロウィン❤︎ ナチュラルアイシングクッキー体験講座のご案内 \n \n\n\n\n\n\n【日程】\n①10/24(土)14:00〜15:30\n②10/28(水)10:30〜12:00\n\nナチュラルアイシングクッキーは合成着色料を使わず、食品などで色付けしたアイシングを使います。優しい色合いと風味のアイシングで可愛いクッキーを作りましょう♪ \n※終了時刻には30分程度の余裕をもってお越し下さい。 \n\n3歳くらいのお子様から大人までご参加いただけます。大人お一人でのご参加も可能です。\n未就学児は保護者のお付き添いをお願いします。\n感染症対策として、マスク着用、検温、手指消毒をお願いいたしますことをご了承下さい。\nお子様連れでのご参加は可能ですが、ただいまキッズルームは使用中止とのことですのでご理解ください。☎︎ご予約やお問い合わせは主催者様、当店のどちらからでもお受けできます！ \n【主催者様情報】 \nご予約は↓↓↓\nsweets.studio.s2020@gmail.com\n大澤さんまで\n体験者とお付き添いの方のお名前、お子様の年齢、アレルギー有無をお知らせ下さい \n【開催場所】 \n当店シンクプレイスカワグチ \nLINE @think-place-k\nHP https://thinkplace.testweb.tech\nfacebook @ThinkPlaceK\n電話番号048-229-2696\n埼玉県川口市里1225-1\n※最寄り駅は、地下鉄南北線直通、埼玉高速鉄道「鳩ヶ谷駅」から徒歩4分 mellowcafesさん隣り。\nお車の方はご相談ください。\n近隣にコインパーキングもあります！ \n※当店はストリーマ空気清浄機付きの「加湿空気清浄機」と手指消毒用のアルコールスプレー、マスク着用、来店時検温等を常時ご用意して、いつも皆さまを清潔にお迎えするよう心がけています。
URL:https://thinkplace.testweb.tech/event/%e5%a4%a7%e6%be%a4%e3%81%95%e3%81%a4%e3%81%8d%e3%81%95%e3%82%93%e3%81%ab%e3%82%88%e3%82%8b%ef%bd%9e%e2%9d%a4%ef%b8%8e%e3%83%8f%e3%83%ad%e3%82%a6%e3%82%a3%e3%83%b3%e2%9d%a4%ef%b8%8e-%e3%83%8a-2/
LOCATION:Think Place Kawaguchi\, 里１２２５−１\, 川口市\, 埼玉県\, 〒334-0005\, Japan
END:VEVENT
BEGIN:VEVENT
DTSTART;TZID=Asia/Tokyo:20201027T103000
DTEND;TZID=Asia/Tokyo:20201027T120000
DTSTAMP:20260420T134919
CREATED:20200917T061954Z
LAST-MODIFIED:20201006T021748Z
UID:1579-1603794600-1603800000@thinkplace.testweb.tech
SUMMARY:〜シンクプレイス主催〜あなたと大切な方のために【女性のための乳がん勉強会】
DESCRIPTION:〜シンクプレイス主催〜あなたと大切な方のために【女性のための乳がん勉強会】開催します🎶 \n日時：１０月２７日（火）　10:30〜12:00 \n進行：加藤 郁美　(女性staffがお話します♪) \n内容：乳がん勉強会(正しい理解・治療法・早期発見方法など) \n場所：ZOOMまたは店舗\n※ZOOM設定方法等、分からない場合も丁寧にご相談に乗ります。\n※少人数の場合、店舗にて受講も可。 \n費用：無料・参加特典あり♪ \nとっても役立つ内容となっておりますので、是非ご参加をお待ちしております🙇✨ \nお申し込みはこちら↓↓↓ \nhttps://peraichi.com/landing_pages/view/i826v \n \n  \n【開催場所】 \n当店シンクプレイスカワグチ \nLINE @think-place-k\nHP https://thinkplace.testweb.tech\nfacebook @ThinkPlaceK \n最寄り駅は、地下鉄南北線直通、埼玉高速鉄道「鳩ヶ谷駅」から徒歩4分 mellowcafesさん隣り♪\nお車の方はご相談ください。近隣にコインパーキングもあります！ \n※当店はストリーマ空気清浄機付きの「加湿空気清浄機」と手指消毒用のアルコールスプレー、マスク着用、来店時検温等を常時ご用意して、いつも皆さまを清潔にお迎えするよう心がけています。
URL:https://thinkplace.testweb.tech/event/%e3%80%9c%e3%82%b7%e3%83%b3%e3%82%af%e3%83%97%e3%83%ac%e3%82%a4%e3%82%b9%e4%b8%bb%e5%82%ac%e3%80%9c%e3%80%90%e4%b9%b3%e3%81%8c%e3%82%93%e3%82%bb%e3%83%9f%e3%83%8a%e3%83%bc%e3%80%91-2/
LOCATION:Think Place Kawaguchi\, 里１２２５−１\, 川口市\, 埼玉県\, 〒334-0005\, Japan
END:VEVENT
BEGIN:VEVENT
DTSTART;TZID=Asia/Tokyo:20201024T140000
DTEND;TZID=Asia/Tokyo:20201024T153000
DTSTAMP:20260420T134919
CREATED:20201006T020720Z
LAST-MODIFIED:20201006T020720Z
UID:1598-1603548000-1603553400@thinkplace.testweb.tech
SUMMARY:大澤さつきさんによる～❤︎ハロウィン❤︎ ナチュラルアイシングクッキー体験講座のご案内～
DESCRIPTION:❤︎ハロウィン❤︎ ナチュラルアイシングクッキー体験講座のご案内 \n \n\n\n\n\n\n【日程】\n①10/24(土)14:00〜15:30\n②10/28(水)10:30〜12:00\n\nナチュラルアイシングクッキーは合成着色料を使わず、食品などで色付けしたアイシングを使います。優しい色合いと風味のアイシングで可愛いクッキーを作りましょう♪ \n※終了時刻には30分程度の余裕をもってお越し下さい。 \n\n3歳くらいのお子様から大人までご参加いただけます。大人お一人でのご参加も可能です。\n未就学児は保護者のお付き添いをお願いします。\n感染症対策として、マスク着用、検温、手指消毒をお願いいたしますことをご了承下さい。\nお子様連れでのご参加は可能ですが、ただいまキッズルームは使用中止とのことですのでご理解ください。  \n☎︎ご予約やお問い合わせは主催者様、当店のどちらからでもお受けできます！ \n【主催者様情報】 \nご予約は↓↓↓\nsweets.studio.s2020@gmail.com\n大澤さんまで\n体験者とお付き添いの方のお名前、お子様の年齢、アレルギー有無をお知らせ下さい \n【開催場所】 \n当店シンクプレイスカワグチ \nLINE @think-place-k\nHP https://thinkplace.testweb.tech\nfacebook @ThinkPlaceK\n電話番号048-229-2696\n埼玉県川口市里1225-1\n※最寄り駅は、地下鉄南北線直通、埼玉高速鉄道「鳩ヶ谷駅」から徒歩4分 mellowcafesさん隣り。\nお車の方はご相談ください。\n近隣にコインパーキングもあります！ \n※当店はストリーマ空気清浄機付きの「加湿空気清浄機」と手指消毒用のアルコールスプレー、マスク着用、来店時検温等を常時ご用意して、いつも皆さまを清潔にお迎えするよう心がけています。
URL:https://thinkplace.testweb.tech/event/%e5%a4%a7%e6%be%a4%e3%81%95%e3%81%a4%e3%81%8d%e3%81%95%e3%82%93%e3%81%ab%e3%82%88%e3%82%8b%ef%bd%9e%e2%9d%a4%ef%b8%8e%e3%83%8f%e3%83%ad%e3%82%a6%e3%82%a3%e3%83%b3%e2%9d%a4%ef%b8%8e-%e3%83%8a%e3%83%81/
LOCATION:Think Place Kawaguchi\, 里１２２５−１\, 川口市\, 埼玉県\, 〒334-0005\, Japan
END:VEVENT
BEGIN:VEVENT
DTSTART;TZID=Asia/Tokyo:20201020T103000
DTEND;TZID=Asia/Tokyo:20201020T120000
DTSTAMP:20260420T134919
CREATED:20200917T061622Z
LAST-MODIFIED:20200925T021808Z
UID:1571-1603189800-1603195200@thinkplace.testweb.tech
SUMMARY:〜シンクプレイス主催〜【知らなきゃ損！主婦が知っておきたいお金の勉強会♪】
DESCRIPTION:【知らなきゃ損！主婦が知っておきたいお金の勉強会】開催しますよ～🎶 \n日時：１０月２０日（火）　10:30〜12:00 \n進行：加藤 郁美　(女性staffがお話します♪) \n内容：ママのためのお金の勉強会　教育資金・老後資金・住宅ローンなど \n場所：ZOOMまたは店舗\n※ZOOM設定方法等、分からない場合も丁寧にご相談に乗ります。\n※少人数の場合、店舗にて受講も可。 \n費用：無料・参加特典あり♪ \n子育てママなら知っておきたいお金の豆知識を、おうちでプチ勉強しちゃいましょう🎶 \n📢参加者様のお声📢\n○改めてお金の事を考える良いきっかけになった！なかなか主人と話す時間が取れないので、今年の夏休みにゆっくり見直してみたい！\n．\n○実際に教育資金がどれぐらい必要になるのかだったり、考えていなかった老後についても知ることができて良かった！子供のために貯金しなきゃとは思っていたけど、ちゃんと考える良いきっかけになった♪\n．\nとっても役立つ内容となっておりますので、是非ご参加をお待ちしております🙇✨ \nお申し込みはこちら↓↓↓ \nhttps://mama-no-obenkyou.think-place.net/ \n \n【開催場所】 \n当店シンクプレイスカワグチ \nLINE @think-place-k\nHP https://thinkplace.testweb.tech\nfacebook @ThinkPlaceK \n最寄り駅は、地下鉄南北線直通、埼玉高速鉄道「鳩ヶ谷駅」から徒歩4分 mellowcafesさん隣り♪\nお車の方はご相談ください。近隣にコインパーキングもあります！ \n※当店はストリーマ空気清浄機付きの「加湿空気清浄機」と手指消毒用のアルコールスプレー、マスク着用、来店時検温等を常時ご用意して、いつも皆さまを清潔にお迎えするよう心がけています。
URL:https://thinkplace.testweb.tech/event/%e3%80%9c%e3%82%b7%e3%83%b3%e3%82%af%e3%83%97%e3%83%ac%e3%82%a4%e3%82%b9%e4%b8%bb%e5%82%ac%e3%80%9c%e3%80%90%e7%9f%a5%e3%82%89%e3%81%aa%e3%81%8d%e3%82%83%e6%90%8d%ef%bc%81%e4%b8%bb%e5%a9%a6%e3%81%8c-3/
LOCATION:Think Place Kawaguchi\, 里１２２５−１\, 川口市\, 埼玉県\, 〒334-0005\, Japan
END:VEVENT
BEGIN:VEVENT
DTSTART;TZID=Asia/Tokyo:20201013T103000
DTEND;TZID=Asia/Tokyo:20201013T120000
DTSTAMP:20260420T134919
CREATED:20200917T061908Z
LAST-MODIFIED:20201006T021619Z
UID:1577-1602585000-1602590400@thinkplace.testweb.tech
SUMMARY:〜シンクプレイス主催〜あなたと大切な方のために【女性のための乳がん勉強会】
DESCRIPTION:〜シンクプレイス主催〜あなたと大切な方のために【女性のための乳がん勉強会】開催します🎶 \n日時：１０月１３日（火）　10:30〜12:00 \n進行：加藤 郁美　(女性staffがお話します♪) \n内容：乳がん勉強会(正しい理解・治療法・早期発見方法など) \n場所：ZOOMまたは店舗\n※ZOOM設定方法等、分からない場合も丁寧にご相談に乗ります。\n※少人数の場合、店舗にて受講も可。 \n費用：無料・参加特典あり♪ \nとっても役立つ内容となっておりますので、是非ご参加をお待ちしております🙇✨ \nお申し込みはこちら↓↓↓ \nhttps://peraichi.com/landing_pages/view/i826v \n \n  \n【開催場所】 \n当店シンクプレイスカワグチ \nLINE @think-place-k\nHP https://thinkplace.testweb.tech\nfacebook @ThinkPlaceK \n最寄り駅は、地下鉄南北線直通、埼玉高速鉄道「鳩ヶ谷駅」から徒歩4分 mellowcafesさん隣り♪\nお車の方はご相談ください。近隣にコインパーキングもあります！ \n※当店はストリーマ空気清浄機付きの「加湿空気清浄機」と手指消毒用のアルコールスプレー、マスク着用、来店時検温等を常時ご用意して、いつも皆さまを清潔にお迎えするよう心がけています。
URL:https://thinkplace.testweb.tech/event/%e3%80%9c%e3%82%b7%e3%83%b3%e3%82%af%e3%83%97%e3%83%ac%e3%82%a4%e3%82%b9%e4%b8%bb%e5%82%ac%e3%80%9c%e3%80%90%e4%b9%b3%e3%81%8c%e3%82%93%e3%82%bb%e3%83%9f%e3%83%8a%e3%83%bc%e3%80%91/
LOCATION:Think Place Kawaguchi\, 里１２２５−１\, 川口市\, 埼玉県\, 〒334-0005\, Japan
END:VEVENT
BEGIN:VEVENT
DTSTART;TZID=Asia/Tokyo:20201006T103000
DTEND;TZID=Asia/Tokyo:20201006T120000
DTSTAMP:20260420T134919
CREATED:20200917T061711Z
LAST-MODIFIED:20200925T021731Z
UID:1569-1601980200-1601985600@thinkplace.testweb.tech
SUMMARY:〜シンクプレイス主催〜【知らなきゃ損！主婦が知っておきたいお金の勉強会♪】
DESCRIPTION:【知らなきゃ損！主婦が知っておきたいお金の勉強会】開催しますよ～🎶 \n日時：１０月６日（火）　10:30〜12:00 \n進行：加藤 郁美　(女性staffがお話します♪) \n内容：ママのためのお金の勉強会　教育資金・老後資金・住宅ローンなど \n場所：ZOOMまたは店舗\n※ZOOM設定方法等、分からない場合も丁寧にご相談に乗ります。\n※少人数の場合、店舗にて受講も可。 \n費用：無料・参加特典あり♪ \n子育てママなら知っておきたいお金の豆知識を、おうちでプチ勉強しちゃいましょう🎶 \n📢参加者様のお声📢\n○改めてお金の事を考える良いきっかけになった！なかなか主人と話す時間が取れないので、今年の夏休みにゆっくり見直してみたい！\n．\n○実際に教育資金がどれぐらい必要になるのかだったり、考えていなかった老後についても知ることができて良かった！子供のために貯金しなきゃとは思っていたけど、ちゃんと考える良いきっかけになった♪\n．\nとっても役立つ内容となっておりますので、是非ご参加をお待ちしております🙇✨ \nお申し込みはこちら↓↓↓ \nhttps://mama-no-obenkyou.think-place.net/ \n \n【開催場所】 \n当店シンクプレイスカワグチ \nLINE @think-place-k\nHP https://thinkplace.testweb.tech\nfacebook @ThinkPlaceK \n最寄り駅は、地下鉄南北線直通、埼玉高速鉄道「鳩ヶ谷駅」から徒歩4分 mellowcafesさん隣り♪\nお車の方はご相談ください。近隣にコインパーキングもあります！ \n※当店はストリーマ空気清浄機付きの「加湿空気清浄機」と手指消毒用のアルコールスプレー、マスク着用、来店時検温等を常時ご用意して、いつも皆さまを清潔にお迎えするよう心がけています。
URL:https://thinkplace.testweb.tech/event/%e3%80%9c%e3%82%b7%e3%83%b3%e3%82%af%e3%83%97%e3%83%ac%e3%82%a4%e3%82%b9%e4%b8%bb%e5%82%ac%e3%80%9c%e3%80%90%e7%9f%a5%e3%82%89%e3%81%aa%e3%81%8d%e3%82%83%e6%90%8d%ef%bc%81%e4%b8%bb%e5%a9%a6%e3%81%8c-4/
LOCATION:Think Place Kawaguchi\, 里１２２５−１\, 川口市\, 埼玉県\, 〒334-0005\, Japan
END:VEVENT
BEGIN:VEVENT
DTSTART;TZID=Asia/Tokyo:20200914T103000
DTEND;TZID=Asia/Tokyo:20200914T113000
DTSTAMP:20260420T134919
CREATED:20200903T045559Z
LAST-MODIFIED:20200903T045559Z
UID:1546-1600079400-1600083000@thinkplace.testweb.tech
SUMMARY:〜円香madoka〜【アロマテラピー検定対策講座】✨✨✨
DESCRIPTION:アロマ&タッチケアスクール円香の講師の大堀さんによる、アロマテラピー検定対策講座のご案内✨✨✨ \n日時：９月７日(月)・１４日(月)　10：30〜12：30 \n講習費：¥30000 （スクールのテキスト、実習費用を含みます） \n※少人数での開催となります！定員に達し次第締め切りになりますので、お申し込みはお早めに！ \n  \n１１月に開催されるアロマテラピー検定を受験したいなという方いらっしゃいますか？？ \nアロマの知識を身につけ活用されたい方もウェルカムです！ \n検定の範囲を超えて、アロマを使ったホームケアをたくさんご紹介し、実践できるアロマテラピーを身につけられる内容になっています \n少人数で感染対策をしながら、検定範囲以上のことがしっかり学べ、知識の身につく講座です。 \nぜひ！お待ちしています✨ \n今回の講座はコロナウイルス対策の為、少人数での開催となります！ \n \n※ご準備頂くもの※\nアロマテラピー検定対策公式テキスト、問題集、検定範囲の精油をご準備頂く必要があります。\nお手持ちの精油に足りないものを買い足して頂くか、検定用のキットのご購入をお願いします。\nこちらでも準備できますのでお声かけ下さい。 \n☎︎ご予約やお問い合わせは主催者様、当店のどちらからでもお受けできます！ \n【主催者様情報】 \n日本アロマ環境協会認定インストラクター　大堀樹里さん \nお申込はこちらから💁‍♀️スクール公式LINE　https://lin.ee/ucqqKv \nインスタグラム(@aromamadoka) \nアロマ&タッチケアスクール円香　公式HP https://aromatouch-madoka.jimdosite.com \nブログ　https://ameblo.jp/aromamadoka/ \n  \n【開催場所】 \n当店シンクプレイスカワグチ \nLINE @think-place-k\nHP https://thinkplace.testweb.tech\nfacebook @ThinkPlaceK\n電話番号048-229-2696\n埼玉県川口市里1225-1\n※最寄り駅は、地下鉄南北線直通、埼玉高速鉄道「鳩ヶ谷駅」から徒歩4分 mellowcafesさん隣り。\nお車の方はご相談ください。\n近隣にコインパーキングもあります！ \n※当店はストリーマ空気清浄機付きの「加湿空気清浄機」と手指消毒用のアルコールスプレー、マスク着用、来店時検温等を常時ご用意して、いつも皆さまを清潔にお迎えするよう心がけています。
URL:https://thinkplace.testweb.tech/event/%e3%80%9c%e5%86%86%e9%a6%99madoka%e3%80%9c%e3%80%90%e3%82%a2%e3%83%ad%e3%83%9e%e3%83%86%e3%83%a9%e3%83%94%e3%83%bc%e6%a4%9c%e5%ae%9a%e5%af%be%e7%ad%96%e8%ac%9b%e5%ba%a7%e3%80%91%e2%9c%a8%e2%9c%a8-2/
LOCATION:Think Place Kawaguchi\, 里１２２５−１\, 川口市\, 埼玉県\, 〒334-0005\, Japan
END:VEVENT
BEGIN:VEVENT
DTSTART;TZID=Asia/Tokyo:20200907T103000
DTEND;TZID=Asia/Tokyo:20200907T133000
DTSTAMP:20260420T134919
CREATED:20200903T045422Z
LAST-MODIFIED:20200903T045422Z
UID:1541-1599474600-1599485400@thinkplace.testweb.tech
SUMMARY:〜円香madoka〜【アロマテラピー検定対策講座】✨✨✨
DESCRIPTION:アロマ&タッチケアスクール円香の講師の大堀さんによる、アロマテラピー検定対策講座のご案内✨✨✨ \n日時：９月７日(月)・１４日(月)　10：30〜12：30 \n講習費：¥30000 （スクールのテキスト、実習費用を含みます） \n※少人数での開催となります！定員に達し次第締め切りになりますので、お申し込みはお早めに！ \n  \n１１月に開催されるアロマテラピー検定を受験したいなという方いらっしゃいますか？？ \nアロマの知識を身につけ活用されたい方もウェルカムです！ \n検定の範囲を超えて、アロマを使ったホームケアをたくさんご紹介し、実践できるアロマテラピーを身につけられる内容になっています \n少人数で感染対策をしながら、検定範囲以上のことがしっかり学べ、知識の身につく講座です。 \nぜひ！お待ちしています✨ \n今回の講座はコロナウイルス対策の為、少人数での開催となります！ \n \n※ご準備頂くもの※\nアロマテラピー検定対策公式テキスト、問題集、検定範囲の精油をご準備頂く必要があります。\nお手持ちの精油に足りないものを買い足して頂くか、検定用のキットのご購入をお願いします。\nこちらでも準備できますのでお声かけ下さい。 \n☎︎ご予約やお問い合わせは主催者様、当店のどちらからでもお受けできます！ \n【主催者様情報】 \n日本アロマ環境協会認定インストラクター　大堀樹里さん \nお申込はこちらから💁‍♀️スクール公式LINE　https://lin.ee/ucqqKv \nインスタグラム(@aromamadoka) \nアロマ&タッチケアスクール円香　公式HP https://aromatouch-madoka.jimdosite.com \nブログ　https://ameblo.jp/aromamadoka/ \n  \n【開催場所】 \n当店シンクプレイスカワグチ \nLINE @think-place-k\nHP https://thinkplace.testweb.tech\nfacebook @ThinkPlaceK\n電話番号048-229-2696\n埼玉県川口市里1225-1\n※最寄り駅は、地下鉄南北線直通、埼玉高速鉄道「鳩ヶ谷駅」から徒歩4分 mellowcafesさん隣り。\nお車の方はご相談ください。\n近隣にコインパーキングもあります！ \n※当店はストリーマ空気清浄機付きの「加湿空気清浄機」と手指消毒用のアルコールスプレー、マスク着用、来店時検温等を常時ご用意して、いつも皆さまを清潔にお迎えするよう心がけています。
URL:https://thinkplace.testweb.tech/event/%e3%80%9c%e5%86%86%e9%a6%99madoka%e3%80%9c%e3%80%90%e3%82%a2%e3%83%ad%e3%83%9e%e3%83%86%e3%83%a9%e3%83%94%e3%83%bc%e6%a4%9c%e5%ae%9a%e5%af%be%e7%ad%96%e8%ac%9b%e5%ba%a7%e3%80%91%e2%9c%a8%e2%9c%a8/
LOCATION:Think Place Kawaguchi\, 里１２２５−１\, 川口市\, 埼玉県\, 〒334-0005\, Japan
END:VEVENT
BEGIN:VEVENT
DTSTART;TZID=Asia/Tokyo:20200901T103000
DTEND;TZID=Asia/Tokyo:20200901T120000
DTSTAMP:20260420T134919
CREATED:20200903T051012Z
LAST-MODIFIED:20200909T040823Z
UID:1552-1598956200-1598961600@thinkplace.testweb.tech
SUMMARY:〜シンクプレイス主催〜【知らなきゃ損！主婦が知っておきたいお金の勉強会♪】
DESCRIPTION:【知らなきゃ損！主婦が知っておきたいお金の勉強会】開催しますよ～🎶 \n日時：９月１日（火）・１５日（火）　10:30〜12:00 \n進行：加藤 郁美　(女性staffがお話します♪) \n内容：ママのためのお金の勉強会　教育資金・老後資金・住宅ローンなど \n場所：ZOOMまたは店舗\n※ZOOM設定方法等、分からない場合も丁寧にご相談に乗ります。\n※少人数の場合、店舗にて受講も可。 \n費用：無料・参加特典あり♪ \n子育てママなら知っておきたいお金の豆知識を、おうちでプチ勉強しちゃいましょう🎶 \n📢参加者様のお声📢\n○改めてお金の事を考える良いきっかけになった！なかなか主人と話す時間が取れないので、今年の夏休みにゆっくり見直してみたい！\n．\n○実際に教育資金がどれぐらい必要になるのかだったり、考えていなかった老後についても知ることができて良かった！子供のために貯金しなきゃとは思っていたけど、ちゃんと考える良いきっかけになった♪\n．\nとっても役立つ内容となっておりますので、是非ご参加をお待ちしております🙇✨ \nお申し込みはこちら↓↓↓ \nhttps://mama-no-obenkyou.think-place.net/ \n \n【開催場所】 \n当店シンクプレイスカワグチ \nLINE @think-place-k\nHP https://thinkplace.testweb.tech\nfacebook @ThinkPlaceK \n最寄り駅は、地下鉄南北線直通、埼玉高速鉄道「鳩ヶ谷駅」から徒歩4分 mellowcafesさん隣り♪\nお車の方はご相談ください。近隣にコインパーキングもあります！ \n※当店はストリーマ空気清浄機付きの「加湿空気清浄機」と手指消毒用のアルコールスプレー、マスク着用、来店時検温等を常時ご用意して、いつも皆さまを清潔にお迎えするよう心がけています。
URL:https://thinkplace.testweb.tech/event/%e3%80%9c%e3%82%b7%e3%83%b3%e3%82%af%e3%83%97%e3%83%ac%e3%82%a4%e3%82%b9%e4%b8%bb%e5%82%ac%e3%80%9c%e3%80%90%e7%9f%a5%e3%82%89%e3%81%aa%e3%81%8d%e3%82%83%e6%90%8d%ef%bc%81%e4%b8%bb%e5%a9%a6%e3%81%8c-2/
LOCATION:Think Place Kawaguchi\, 里１２２５−１\, 川口市\, 埼玉県\, 〒334-0005\, Japan
END:VEVENT
BEGIN:VEVENT
DTSTART;TZID=Asia/Tokyo:20200825T100000
DTEND;TZID=Asia/Tokyo:20200825T120000
DTSTAMP:20260420T134919
CREATED:20200720T075433Z
LAST-MODIFIED:20200720T075433Z
UID:1528-1598349600-1598356800@thinkplace.testweb.tech
SUMMARY:予約有り
DESCRIPTION:
URL:https://thinkplace.testweb.tech/event/%e4%ba%88%e7%b4%84%e6%9c%89%e3%82%8a-5/
LOCATION:埼玉県
END:VEVENT
BEGIN:VEVENT
DTSTART;TZID=Asia/Tokyo:20200818T103000
DTEND;TZID=Asia/Tokyo:20200818T120000
DTSTAMP:20260420T134919
CREATED:20200720T075254Z
LAST-MODIFIED:20200720T080003Z
UID:1524-1597746600-1597752000@thinkplace.testweb.tech
SUMMARY:ｼﾝｸﾌﾟﾚｲｽｶﾜｸﾞﾁ主催【お金の勉強会】
DESCRIPTION:
URL:https://thinkplace.testweb.tech/event/%ef%bd%bc%ef%be%9d%ef%bd%b8%ef%be%8c%ef%be%9f%ef%be%9a%ef%bd%b2%ef%bd%bd%ef%bd%b6%ef%be%9c%ef%bd%b8%ef%be%9e%ef%be%81%e4%b8%bb%e5%82%ac%e3%80%90%e3%81%8a%e9%87%91%e3%81%ae%e3%83%97%e3%83%81%e5%8b%89-5/
LOCATION:埼玉県
END:VEVENT
BEGIN:VEVENT
DTSTART;TZID=Asia/Tokyo:20200817T100000
DTEND;TZID=Asia/Tokyo:20200817T140000
DTSTAMP:20260420T134919
CREATED:20200720T075641Z
LAST-MODIFIED:20200720T075641Z
UID:1530-1597658400-1597672800@thinkplace.testweb.tech
SUMMARY:予約有り
DESCRIPTION:
URL:https://thinkplace.testweb.tech/event/%e4%ba%88%e7%b4%84%e6%9c%89%e3%82%8a-7/
LOCATION:埼玉県
END:VEVENT
BEGIN:VEVENT
DTSTART;TZID=Asia/Tokyo:20200814T080000
DTEND;TZID=Asia/Tokyo:20200814T170000
DTSTAMP:20260420T134919
CREATED:20200720T075842Z
LAST-MODIFIED:20200720T075842Z
UID:1534-1597392000-1597424400@thinkplace.testweb.tech
SUMMARY:店休
DESCRIPTION:
URL:https://thinkplace.testweb.tech/event/%e5%ba%97%e4%bc%91-2/
LOCATION:埼玉県
END:VEVENT
BEGIN:VEVENT
DTSTART;TZID=Asia/Tokyo:20200813T080000
DTEND;TZID=Asia/Tokyo:20200813T170000
DTSTAMP:20260420T134919
CREATED:20200720T075817Z
LAST-MODIFIED:20200720T075817Z
UID:1532-1597305600-1597338000@thinkplace.testweb.tech
SUMMARY:店休
DESCRIPTION:
URL:https://thinkplace.testweb.tech/event/%e5%ba%97%e4%bc%91/
LOCATION:埼玉県
END:VEVENT
BEGIN:VEVENT
DTSTART;TZID=Asia/Tokyo:20200804T103000
DTEND;TZID=Asia/Tokyo:20200804T120000
DTSTAMP:20260420T134919
CREATED:20200720T075223Z
LAST-MODIFIED:20200720T080035Z
UID:1522-1596537000-1596542400@thinkplace.testweb.tech
SUMMARY:ｼﾝｸﾌﾟﾚｲｽｶﾜｸﾞﾁ主催【お金の勉強会】
DESCRIPTION:
URL:https://thinkplace.testweb.tech/event/%ef%bd%bc%ef%be%9d%ef%bd%b8%ef%be%8c%ef%be%9f%ef%be%9a%ef%bd%b2%ef%bd%bd%ef%bd%b6%ef%be%9c%ef%bd%b8%ef%be%9e%ef%be%81%e4%b8%bb%e5%82%ac%e3%80%90%e3%81%8a%e9%87%91%e3%81%ae%e3%83%97%e3%83%81%e5%8b%89-4/
LOCATION:埼玉県
END:VEVENT
BEGIN:VEVENT
DTSTART;TZID=Asia/Tokyo:20200728T100000
DTEND;TZID=Asia/Tokyo:20200728T170000
DTSTAMP:20260420T134919
CREATED:20200624T022843Z
LAST-MODIFIED:20200624T022843Z
UID:1496-1595930400-1595955600@thinkplace.testweb.tech
SUMMARY:予約有り
DESCRIPTION:
URL:https://thinkplace.testweb.tech/event/%e4%ba%88%e7%b4%84%e6%9c%89%e3%82%8a-3/
LOCATION:埼玉県
END:VEVENT
BEGIN:VEVENT
DTSTART;TZID=Asia/Tokyo:20200721T103000
DTEND;TZID=Asia/Tokyo:20200721T120000
DTSTAMP:20260420T134919
CREATED:20200616T055528Z
LAST-MODIFIED:20200720T075149Z
UID:1486-1595327400-1595332800@thinkplace.testweb.tech
SUMMARY:ｼﾝｸﾌﾟﾚｲｽｶﾜｸﾞﾁ主催【お金の勉強会】
DESCRIPTION:【知らなきゃ損！”ママが知っておきたい”お金の勉強会】の開催です✨ \n「教育資金ってどれぐらい必要なの？」 \n「住宅ローンってどうすればよいの？」 \n「老後に必要なお金って？」 \nそんな子育てママさん達の疑問に少しでもお役に立てたらと思い企画しました！ \n日時：7月7日 (火)10:30〜12:00 進行：加藤(女性staffがお話します) \n内容：（教育資金がよくわかる）ママのためのお金の勉強会 \n場所：ZOOMまたは店舗 (※ZOOM設定方法等、分からない場合も丁寧にご相談に乗ります) (※少人数の場合、店舗にて受講も可) \n費用は無料ですので、お気軽にご参加ください✨ \n子育てママなら知っておきたいお金の豆知識を、プチ勉強しちゃいましょう️！ \nご参加頂いた方に、アルコール除菌ウエットティッシュをプレゼント✨✨ \nお申し込みお待ちしております♪ \n \n \n【開催場所】 \n当店シンクプレイスカワグチ \nLINE @think-place-k HP https://thinkplace.testweb.tech \n facebook @ThinkPlaceK \n 電話番号048-229-2696 \n 埼玉県川口市里1225-1 \n ※最寄り駅は、地下鉄南北線直通、埼玉高速鉄道「鳩ヶ谷駅」から徒歩4分 mellowcafesさん隣り。 \n お車の方はご相談ください。 \n 近隣にコインパーキングもあります！
URL:https://thinkplace.testweb.tech/event/%ef%bd%bc%ef%be%9d%ef%bd%b8%ef%be%8c%ef%be%9f%ef%be%9a%ef%bd%b2%ef%bd%bd%ef%bd%b6%ef%be%9c%ef%bd%b8%ef%be%9e%ef%be%81%e4%b8%bb%e5%82%ac%e3%80%90%e3%81%8a%e9%87%91%e3%81%ae%e3%83%97%e3%83%81%e5%8b%89-3/
LOCATION:埼玉県
END:VEVENT
BEGIN:VEVENT
DTSTART;TZID=Asia/Tokyo:20200714T100000
DTEND;TZID=Asia/Tokyo:20200714T170000
DTSTAMP:20260420T134919
CREATED:20200624T022808Z
LAST-MODIFIED:20200624T022808Z
UID:1494-1594720800-1594746000@thinkplace.testweb.tech
SUMMARY:予約有り
DESCRIPTION:
URL:https://thinkplace.testweb.tech/event/%e4%ba%88%e7%b4%84%e6%9c%89%e3%82%8a-2/
LOCATION:埼玉県
END:VEVENT
BEGIN:VEVENT
DTSTART;TZID=Asia/Tokyo:20200707T103000
DTEND;TZID=Asia/Tokyo:20200707T120000
DTSTAMP:20260420T134919
CREATED:20200616T055457Z
LAST-MODIFIED:20200624T055728Z
UID:1484-1594117800-1594123200@thinkplace.testweb.tech
SUMMARY:ｼﾝｸﾌﾟﾚｲｽｶﾜｸﾞﾁ主催【お金のプチ勉強会】
DESCRIPTION:【知らなきゃ損！”ママが知っておきたい”お金の勉強会】の開催です✨\n「教育資金ってどれぐらい必要なの？」\n「住宅ローンってどうすればよいの？」\n「老後に必要なお金って？」\n そんな子育てママさん達の疑問に少しでもお役に立てたらと思い企画しました！\n\n日時：7月7日 (火)10:30〜12:00 \n\n進行：加藤(女性staffがお話します) \n\n内容：（教育資金がよくわかる）ママのためのお金の勉強会\n\n場所：ZOOMまたは店舗\n (※ZOOM設定方法等、分からない場合も丁寧にご相談に乗ります) \n(※少人数の場合、店舗にて受講も可) \n\n費用は無料ですので、お気軽にご参加ください✨\n\n子育てママなら知っておきたいお金の豆知識を、プチ勉強しちゃいましょう️！ \n\nご参加頂いた方に、アルコール除菌ウエットティッシュをプレゼント✨✨ \n\nお申し込みお待ちしております♪ \n\n \n【開催場所】 \n当店シンクプレイスカワグチ \nLINE @think-place-k HP https://thinkplace.testweb.tech \n facebook @ThinkPlaceK \n 電話番号048-229-2696 \n 埼玉県川口市里1225-1 \n ※最寄り駅は、地下鉄南北線直通、埼玉高速鉄道「鳩ヶ谷駅」から徒歩4分 mellowcafesさん隣り。 \n お車の方はご相談ください。 \n 近隣にコインパーキングもあります！
URL:https://thinkplace.testweb.tech/event/%ef%bd%bc%ef%be%9d%ef%bd%b8%ef%be%8c%ef%be%9f%ef%be%9a%ef%bd%b2%ef%bd%bd%ef%bd%b6%ef%be%9c%ef%bd%b8%ef%be%9e%ef%be%81%e4%b8%bb%e5%82%ac%e3%80%90%e3%81%8a%e9%87%91%e3%81%ae%e3%83%97%e3%83%81%e5%8b%89-2/
LOCATION:埼玉県
END:VEVENT
BEGIN:VEVENT
DTSTART;TZID=Asia/Tokyo:20200611T100000
DTEND;TZID=Asia/Tokyo:20200611T113000
DTSTAMP:20260420T134919
CREATED:20200603T060917Z
LAST-MODIFIED:20200603T061632Z
UID:1448-1591869600-1591875000@thinkplace.testweb.tech
SUMMARY:ｼﾝｸﾌﾟﾚｲｽｶﾜｸﾞﾁ主催【お金のプチ勉強会】
DESCRIPTION:【知らなきゃ損！主婦が知っておくべきお金のお話し会】のご案内です✨✨ \n「老後に必要なお金って？」 \n「教育資金ってどれぐらい必要なの？」 \nそんな子育てママさん達の疑問に、少しでもお役に立てたらと思い、お話会を企画しました \n・日時：6月11日 (木)10:00〜11:30位 \n・進行：加藤(女性staffがお話します) \n・内容：「お金のプチ勉強会」 \n・場所：zoom(設定方法等、分からない場合も丁寧にご相談に乗ります✨) \n \nご自宅からお気軽にご参加ください\n(費用は無料です) \n申し込み希望やお問い合わせはお気軽にどうぞ‼️ \n子育てママなら知っておきたいたいお金の豆知識を、おうちでプチ勉強しちゃいましょう！ \nなんと、ご参加頂いた方に、アルコール除菌ウェットシートを2個プレゼント✨(簡単な条件有ります) \nお申込みお待ちしております \nシンクプレイスカワグチ\n〒334-0005\n埼玉県川口市里1225-1 \n〈連絡先〉\n048-229-2696\n( @thinkplacekawaguchi )\n公式LINE @think-place-K\nHP https://thinkplace.testweb.tech
URL:https://thinkplace.testweb.tech/event/%ef%bd%bc%ef%be%9d%ef%bd%b8%ef%be%8c%ef%be%9f%ef%be%9a%ef%bd%b2%ef%bd%bd%ef%bd%b6%ef%be%9c%ef%bd%b8%ef%be%9e%ef%be%81%e4%b8%bb%e5%82%ac%e3%80%90%e3%81%8a%e9%87%91%e3%81%ae%e3%83%97%e3%83%81%e5%8b%89/
LOCATION:埼玉県
ORGANIZER;CN="Think%20Place%20Kawaguchi":MAILTO:mail-ha-kochirae@think-place.net
END:VEVENT
BEGIN:VEVENT
DTSTART;TZID=Asia/Tokyo:20200605T140000
DTEND;TZID=Asia/Tokyo:20200605T153000
DTSTAMP:20260420T134919
CREATED:20200603T060346Z
LAST-MODIFIED:20200603T060346Z
UID:1446-1591365600-1591371000@thinkplace.testweb.tech
SUMMARY:主催者様向け【オンラインお茶会ミーティング】
DESCRIPTION:主催者様向け【オンラインお茶会ミーティング】 \n自粛期間で開催できていなかったお茶会ですが、今回はZOOMにて開催してみようと思っています♪ \n【 内容 】\n・自粛期間中の活動について\n・お困りごと\n・新しい取り組みについて \nなどの情報共有をして、それぞれの活動発展に繋がる会に出来たらと思っています♪ \nご都合が合えばぜひご参加ください！ \n【6月ZOOMお茶会詳細】\n開催：ZOOM\n日時：2020年6月5日(金)　14時～15時30分を予定。
URL:https://thinkplace.testweb.tech/event/%e4%b8%bb%e5%82%ac%e8%80%85%e6%a7%98%e5%90%91%e3%81%91%e3%80%90%e3%82%aa%e3%83%b3%e3%83%a9%e3%82%a4%e3%83%b3%e3%81%8a%e8%8c%b6%e4%bc%9a%e3%83%9f%e3%83%bc%e3%83%86%e3%82%a3%e3%83%b3%e3%82%b0%e3%80%91/
LOCATION:Think Place Kawaguchi\, 里１２２５−１\, 川口市\, 埼玉県\, 〒334-0005\, Japan
ORGANIZER;CN="Think%20Place%20Kawaguchi":MAILTO:mail-ha-kochirae@think-place.net
END:VEVENT
BEGIN:VEVENT
DTSTART;TZID=Asia/Tokyo:20200428T143000
DTEND;TZID=Asia/Tokyo:20200428T160000
DTSTAMP:20260420T134919
CREATED:20200302T022634Z
LAST-MODIFIED:20200330T012213Z
UID:1319-1588084200-1588089600@thinkplace.testweb.tech
SUMMARY:【中止】勉強会
DESCRIPTION:
URL:https://thinkplace.testweb.tech/event/%e5%8b%89%e5%bc%b7%e4%bc%9a-2/
LOCATION:埼玉県
END:VEVENT
BEGIN:VEVENT
DTSTART;TZID=Asia/Tokyo:20200423T100000
DTEND;TZID=Asia/Tokyo:20200423T130000
DTSTAMP:20260420T134919
CREATED:20200311T064820Z
LAST-MODIFIED:20200330T012145Z
UID:1356-1587636000-1587646800@thinkplace.testweb.tech
SUMMARY:【中止】大平舞さんによる【イスでヨガレッスン】
DESCRIPTION:椅子に座ってヨガをやってみませんか？\n不安になることが多い今。人は不安や、ストレスを感じると無意識に身体を丸めてしまいます。そんな時こそ身体を気持ちよく伸ばし緩めて、免疫力を高めていきましょう！\n身体が硬い、と思っている方でもムリなくポーズがとれるのでオススメです！\nお子様連れの参加もできます。 \n日時 4月23日(木)\n・10:30〜11:30\n・11:45〜12:45\n各回３名様まで\n参加費1000円\nティータイム付きです。 \n持ち物は特にありません。\n動きやすい服装でお越しください。\n(更衣室はありません) \n \n※ご予約やお問い合わせは主催者様、当店のどちらからでもお受けできます！ \n【主催者様情報】 \n大平 舞さん \n柔道整復師\nヨガセラピスト協会認定\nヨガセラピスト \nご予約はLINE@jsl1214qまで \n  \n【開催場所】 \n当店シンクプレイスカワグチ \nLINE @think-place-k\nHP https://thinkplace.testweb.tech\nfacebook @ThinkPlaceK\n電話番号048-229-2696\n埼玉県川口市里1225-1\n※最寄り駅は、地下鉄南北線直通、埼玉高速鉄道「鳩ヶ谷駅」から徒歩4分 mellowcafesさん隣り。\nお車の方はご相談ください。\n近隣にコインパーキングもあります！
URL:https://thinkplace.testweb.tech/event/%e5%a4%a7%e5%b9%b3%e8%88%9e%e3%81%95%e3%82%93%e3%81%ab%e3%82%88%e3%82%8b%e3%80%90%e3%82%a4%e3%82%b9%e3%81%a7%e3%83%a8%e3%82%ac%e3%83%ac%e3%83%83%e3%82%b9%e3%83%b3%e3%80%91/
LOCATION:埼玉県
END:VEVENT
BEGIN:VEVENT
DTSTART;TZID=Asia/Tokyo:20200420T110000
DTEND;TZID=Asia/Tokyo:20200420T140000
DTSTAMP:20260420T134919
CREATED:20200309T062859Z
LAST-MODIFIED:20200330T012132Z
UID:1345-1587380400-1587391200@thinkplace.testweb.tech
SUMMARY:【中止】第４回　主催者さん向けお茶会ミーティング
DESCRIPTION:第４回　主催者さん向けお茶会ミーティング \n今回４回目になります主催者様向けお茶会です！\n毎月１回、主催者様お茶会交流会を開催したいと思いますので、交流を深め、ジョイント企画や、相互の集客確保、情報交換の場にして頂けたらと思います！ \n【４月お茶会詳細】\n開催場所：当店(Think Place Kawaguchi)\n日時：2020年４月２０日(月)　11時～13時の二時間程度を予定。\n(当店でお茶を用意いたします。（費用は無料）) \n※当店はストリーマ空気清浄機付きの「加湿空気清浄機」と手指消毒用のアルコールスプレーを常時ご用意して、いつも皆さまを清潔にお迎えするようここがけています。\n(担当：國府田) \n  \n前回の様子↓↓↓ \n \n \n 
URL:https://thinkplace.testweb.tech/event/%e7%ac%ac%ef%bc%94%e5%9b%9e%e3%81%8a%e8%8c%b6%e4%bc%9a%ef%bd%8d%ef%bd%94%ef%bd%87/
LOCATION:埼玉県
END:VEVENT
BEGIN:VEVENT
DTSTART;TZID=Asia/Tokyo:20200416T100000
DTEND;TZID=Asia/Tokyo:20200416T130000
DTSTAMP:20260420T134919
CREATED:20200326T015610Z
LAST-MODIFIED:20200330T012118Z
UID:1382-1587031200-1587042000@thinkplace.testweb.tech
SUMMARY:【中止】～ＭＡＤＯＫＡ円香～大堀樹里さんによる【アロマで花粉症対策講座】
DESCRIPTION:4月16日\n10：30〜11：30 \nアロマで花粉症対策！ \n辛い症状の緩和にアロマを使ってみませんか？？\n鼻詰まりの緩和、咳や喉の症状緩和に使えるアロマトリートメントオイルを作成してお持ち帰り頂けます。\n風邪のケアにも使えるので、風邪の時のアロマ療法を知りたい方にもオススメです。 \n作成するオイルは、ご自身の症状に合わせた物を25ml。\n持ち運び用に便利なロールオンアロマ付！\nアロマテラピーの基礎からお教えしますので、初めての方もご安心してお気軽に参加して下さい。 \n（内容）\nアロマテラピーとは？\n取り扱いの注意点\n花粉症、風邪の時にオススメのアロマオイルと利用法\nトリートメントオイル作成実習 \n受講費1500円＋教材費1200円 \n \n※ご予約やお問い合わせは主催者様、当店のどちらからでもお受けできます！ \n今回の講座はコロナウイルス対策の為、少人数での開催となります！\n【主催者様情報】 \n日本アロマ環境協会認定インストラクター　大堀樹里さん \nsweet_aroma_j@yahoo.co.jp \nアロマ&タッチケアスクール円香\nHP https://aromatouch-madoka.jimdosite.com \nブログ\nhttps://ameblo.jp/aromamadoka/ \n【開催場所】 \n当店シンクプレイスカワグチ \nLINE @think-place-k\nHP https://thinkplace.testweb.tech\nfacebook @ThinkPlaceK\n電話番号048-229-2696\n埼玉県川口市里1225-1\n※最寄り駅は、地下鉄南北線直通、埼玉高速鉄道「鳩ヶ谷駅」から徒歩4分 mellowcafesさん隣り。\nお車の方はご相談ください。\n近隣にコインパーキングもあります！ \n※当店はストリーマ空気清浄機付きの「加湿空気清浄機」と手指消毒用のアルコールスプレーを常時ご用意して、いつも皆さまを清潔にお迎えするようここがけています。
URL:https://thinkplace.testweb.tech/event/1382/
LOCATION:埼玉県
END:VEVENT
BEGIN:VEVENT
DTSTART;TZID=Asia/Tokyo:20200414T143000
DTEND;TZID=Asia/Tokyo:20200414T160000
DTSTAMP:20260420T134919
CREATED:20200219T050551Z
LAST-MODIFIED:20200330T012105Z
UID:1307-1586874600-1586880000@thinkplace.testweb.tech
SUMMARY:【中止】勉強会
DESCRIPTION:
URL:https://thinkplace.testweb.tech/event/%e5%8b%89%e5%bc%b7%e4%bc%9a/
LOCATION:Think Place Kawaguchi\, 里１２２５−１\, 川口市\, 埼玉県\, 〒334-0005\, Japan
END:VEVENT
BEGIN:VEVENT
DTSTART;TZID=Asia/Tokyo:20200413T100000
DTEND;TZID=Asia/Tokyo:20200413T130000
DTSTAMP:20260420T134919
CREATED:20200316T050930Z
LAST-MODIFIED:20200330T012046Z
UID:1367-1586772000-1586782800@thinkplace.testweb.tech
SUMMARY:【中止】平林英里さんによる【アロマワークショップ】
DESCRIPTION:
URL:https://thinkplace.testweb.tech/event/%e5%b9%b3%e6%9e%97%e8%8b%b1%e9%87%8c%e3%81%95%e3%82%93%e3%81%ab%e3%82%88%e3%82%8b%e3%80%90%e3%82%a2%e3%83%ad%e3%83%9e%e3%83%af%e3%83%bc%e3%82%af%e3%82%b7%e3%83%a7%e3%83%83%e3%83%97%e3%80%91-3/
LOCATION:埼玉県
END:VEVENT
BEGIN:VEVENT
DTSTART;TZID=Asia/Tokyo:20200408T100000
DTEND;TZID=Asia/Tokyo:20200408T130000
DTSTAMP:20260420T134919
CREATED:20200316T050905Z
LAST-MODIFIED:20200330T012031Z
UID:1365-1586340000-1586350800@thinkplace.testweb.tech
SUMMARY:【中止】平林英里さんによる【アロマ講座＆マスクスプレー作りワークショップ】
DESCRIPTION:日時:4月8日10:30〜12:30\n参加費:1\,500円(クラフト代込) \n春は動物や植物達の活動が活発になる季節(^^) \n私たち人間も、活動的になり体も心もウキウキしてくる季節です♪ \n季節の変わり目は、体調を崩しやすかったり、ムズムズが気になり外出が憂鬱、、。 \nという方もいらっしゃるかもしれません！ \nレッスンでは、そんな春の季節をストレスフリーに過ごすための、セルフケアについてお話します！ \nアロマのクラフトは、マスクにも使えるアロマスプレーを作ってお持ち帰りいただきます♪\n \n \n※ご予約やお問い合わせは主催者様、当店のどちらからでもお受けできます！ \n今回の講座はコロナウイルス対策の為、少人数での開催となります！\n【主催者様情報】 \n平林英里さん \nブログ\nhttps://ameblo.jp/iyashiflower/entry-12582120718.html \nインスタ\n@myroomaroma \n【開催場所】 \n当店シンクプレイスカワグチ \nLINE @think-place-k\nHP https://thinkplace.testweb.tech\nfacebook @ThinkPlaceK\n電話番号048-229-2696\n埼玉県川口市里1225-1\n※最寄り駅は、地下鉄南北線直通、埼玉高速鉄道「鳩ヶ谷駅」から徒歩4分 mellowcafesさん隣り。\nお車の方はご相談ください。\n近隣にコインパーキングもあります！ \n※当店はストリーマ空気清浄機付きの「加湿空気清浄機」と手指消毒用のアルコールスプレーを常時ご用意して、いつも皆さまを清潔にお迎えするようここがけています。
URL:https://thinkplace.testweb.tech/event/%e5%b9%b3%e6%9e%97%e8%8b%b1%e9%87%8c%e3%81%95%e3%82%93%e3%81%ab%e3%82%88%e3%82%8b%e3%80%90%e3%82%a2%e3%83%ad%e3%83%9e%e3%83%af%e3%83%bc%e3%82%af%e3%82%b7%e3%83%a7%e3%83%83%e3%83%97%e3%80%91-2/
LOCATION:埼玉県
END:VEVENT
BEGIN:VEVENT
DTSTART;TZID=Asia/Tokyo:20200406T100000
DTEND;TZID=Asia/Tokyo:20200406T130000
DTSTAMP:20260420T134919
CREATED:20200326T022134Z
LAST-MODIFIED:20200330T012014Z
UID:1395-1586167200-1586178000@thinkplace.testweb.tech
SUMMARY:【中止】～リアン～杉下 佳奈さんによる【キラキラ宝石石鹸作り】
DESCRIPTION:※ご予約やお問い合わせは主催者様、当店のどちらからでもお受けできます！ \n【主催者様情報】 \n杉下　佳奈さん\nライン　@xrd8912u\nGmail　060sugi77@gmail.com\nブログ　https://ameblo.jp/1980kana1222/ \n【開催場所】 \n当店シンクプレイスカワグチ \nLINE @think-place-k\nHP https://thinkplace.testweb.tech\nfacebook @ThinkPlaceK\n電話番号048-229-2696\n埼玉県川口市里1225-1 \n※最寄り駅は、地下鉄南北線直通、埼玉高速鉄道「鳩ヶ谷駅」から徒歩4分 mellowcafesさん隣り。\nお車の方はご相談ください。\n近隣にコインパーキングもあります！ \n※当店はストリーマ空気清浄機付きの「加湿空気清浄機」と手指消毒用のアルコールスプレーを常時ご用意して、いつも皆さまを清潔にお迎えするようここがけています。
URL:https://thinkplace.testweb.tech/event/%ef%bd%9e%e3%83%aa%e3%82%a2%e3%83%b3%ef%bd%9e%e6%9d%89%e4%b8%8b-%e4%bd%b3%e5%a5%88%e3%81%95%e3%82%93%e3%81%ab%e3%82%88%e3%82%8b%e3%80%90%e3%82%ad%e3%83%a9%e3%82%ad%e3%83%a9%e5%ae%9d%e7%9f%b3%e7%9f%b3/
LOCATION:埼玉県
END:VEVENT
BEGIN:VEVENT
DTSTART;TZID=Asia/Tokyo:20200402T100000
DTEND;TZID=Asia/Tokyo:20200402T130000
DTSTAMP:20260420T134919
CREATED:20200210T060425Z
LAST-MODIFIED:20200330T011953Z
UID:1263-1585821600-1585832400@thinkplace.testweb.tech
SUMMARY:【中止】～ＭＡＤＯＫＡ円香～大堀樹里さんによる【キッズアロマ講座】
DESCRIPTION:4月2日（木）\nキッズアロマ講座 \n1000円（教材費込） \n入園、入学など4月から環境が変わるお子様たちは、大人が想像する以上にストレスにさらされます。\n自律神経を整えるアロマで、精神疲労を軽減しましょう！ \n（内容）\n香りのお話\nリラックスピロースプレーの製作 \n親子で参加できる講座です。お子さま主体の講座になりますが、参加年齢は制限がありませんので、大人の方と一緒になら製作できるというお子さまも大歓迎です。 \n①10時半〜11時20分【満員】\n②11時半〜12時20分【満員】 \nのどちらかの時間をお選び頂けます。 \n \n \n※ご予約やお問い合わせは主催者様、当店のどちらからでもお受けできます！ \n今回の講座はコロナウイルス対策の為、少人数での開催となり、満員となりました！\nマスクスプレー講座の他の日程についてのお問い合わせは主催者様まで♪\nお気軽にお問い合わせ下さい‼️\n【主催者様情報】 \n日本アロマ環境協会認定インストラクター　大堀樹里さん \nsweet_aroma_j@yahoo.co.jp \nアロマ&タッチケアスクール円香\nHP https://aromatouch-madoka.jimdosite.com \nブログ\nhttps://ameblo.jp/aromamadoka/ \n【開催場所】 \n当店シンクプレイスカワグチ \nLINE @think-place-k\nHP https://thinkplace.testweb.tech\nfacebook @ThinkPlaceK\n電話番号048-229-2696\n埼玉県川口市里1225-1\n※最寄り駅は、地下鉄南北線直通、埼玉高速鉄道「鳩ヶ谷駅」から徒歩4分 mellowcafesさん隣り。\nお車の方はご相談ください。\n近隣にコインパーキングもあります！
URL:https://thinkplace.testweb.tech/event/%ef%bd%9e%ef%bd%8d%ef%bd%81%ef%bd%84%ef%bd%8f%ef%bd%8b%ef%bd%81%e5%86%86%e9%a6%99%ef%bd%9e%e5%a4%a7%e5%a0%80%e6%a8%b9%e9%87%8c%e3%81%95%e3%82%93%e3%81%ab%e3%82%88%e3%82%8b%e3%80%90%e3%82%ad%e3%83%83/
LOCATION:Think Place Kawaguchi\, 里１２２５−１\, 川口市\, 埼玉県\, 〒334-0005\, Japan
END:VEVENT
END:VCALENDAR