BEGIN:VCALENDAR
VERSION:2.0
PRODID:-//シンクプレイスFPオフィス - ECPv6.1.3//NONSGML v1.0//EN
CALSCALE:GREGORIAN
METHOD:PUBLISH
X-ORIGINAL-URL:https://thinkplace.testweb.tech
X-WR-CALDESC:シンクプレイスFPオフィス のイベント
REFRESH-INTERVAL;VALUE=DURATION:PT1H
X-Robots-Tag:noindex
X-PUBLISHED-TTL:PT1H
BEGIN:VTIMEZONE
TZID:Asia/Tokyo
BEGIN:STANDARD
TZOFFSETFROM:+0900
TZOFFSETTO:+0900
TZNAME:JST
DTSTART:20190101T000000
END:STANDARD
END:VTIMEZONE
BEGIN:VEVENT
DTSTART;TZID=Asia/Tokyo:20200327T100000
DTEND;TZID=Asia/Tokyo:20200327T130000
DTSTAMP:20260420T133134
CREATED:20200213T043507Z
LAST-MODIFIED:20200304T072049Z
UID:1298-1585303200-1585314000@thinkplace.testweb.tech
SUMMARY:【中止】～リアン～杉下 佳奈さんによる【春休み！キラキラ宝石せっけん】
DESCRIPTION:～リアン～杉下 佳奈さんによる「キラキラ宝石せっけん作りワークショップ」です \nキラキラ宝石のような石鹸を作りませんか？\n全てオーガニック素材で優しい石鹸です。お子様~大人までできるイベントです！ \n《イベント詳細》\n日時：3/27((金))10:15～・10:45 ～・11:15～・11:45～ \n４部制　所要時間30分（定員：各回5組様）\n参加費：950円～1700円（ティータイム付き） \nシンクプレイスのラインお友達登録で500円ＯＦＦクーポン配信中♪ \n \n※ご予約やお問い合わせは主催者様、当店のどちらからでもお受けできます！ \n【主催者様情報】 \n杉下　佳奈さん\nライン　@xrd8912u\nGmail　060sugi77@gmail.com\nブログ　https://ameblo.jp/1980kana1222/ \n  \n【開催場所】 \n当店シンクプレイスカワグチ \nLINE @think-place-k\nHP https://thinkplace.testweb.tech\nfacebook @ThinkPlaceK\n電話番号048-229-2696\n埼玉県川口市里1225-1 \n※最寄り駅は、地下鉄南北線直通、埼玉高速鉄道「鳩ヶ谷駅」から徒歩4分 mellowcafesさん隣り。\nお車の方はご相談ください。\n近隣にコインパーキングもあります！
URL:https://thinkplace.testweb.tech/event/%e4%ba%88%e7%b4%84%e3%81%82%e3%82%8a-2/
LOCATION:埼玉県
END:VEVENT
BEGIN:VEVENT
DTSTART;TZID=Asia/Tokyo:20200323T100000
DTEND;TZID=Asia/Tokyo:20200323T130000
DTSTAMP:20260420T133134
CREATED:20200316T050839Z
LAST-MODIFIED:20200319T015233Z
UID:1363-1584957600-1584968400@thinkplace.testweb.tech
SUMMARY:【中止】平林英里さんによる【アロマワークショップ】
DESCRIPTION:
URL:https://thinkplace.testweb.tech/event/%e5%b9%b3%e6%9e%97%e8%8b%b1%e9%87%8c%e3%81%95%e3%82%93%e3%81%ab%e3%82%88%e3%82%8b%e3%80%90%e3%82%a2%e3%83%ad%e3%83%9e%e3%83%af%e3%83%bc%e3%82%af%e3%82%b7%e3%83%a7%e3%83%83%e3%83%97%e3%80%91/
LOCATION:埼玉県
END:VEVENT
BEGIN:VEVENT
DTSTART;TZID=Asia/Tokyo:20200320T100000
DTEND;TZID=Asia/Tokyo:20200322T170000
DTSTAMP:20260420T133134
CREATED:20200210T055740Z
LAST-MODIFIED:20200304T073459Z
UID:1260-1584698400-1584896400@thinkplace.testweb.tech
SUMMARY:【中止】３日間開催～ゆりかご手芸ぶぅさん・カエルのおやこさん主催～【Handmade Market】！！コラボ有り！！
DESCRIPTION:３日間開催～ゆりかご手芸ぶぅさん・カエルのおやこさん主催～ \n【Handmade Market】 \n今回は日替わりゲストさんをお招きしての開催です♪ \nシンクプレイスのラインお友達登録で500円ＯＦＦクーポン配信中♪ \n(５００円ＯＦＦクーポンはミモザのリースとミニチュアレザー本にお使い頂けます。) \n \n※お問い合わせは主催者様、当店のどちらからでもお受けできます！ \n【主催者様情報】 \nゆりかご手芸ぶぅさん\n https://www.facebook.com/yurikagoshugeiboo/ \n カエルのおやこさん\n https://www.facebook.com/kaerunooyako/ \nよつ葉スィーツショップ \nhttps://yotsubasweets.crayonsite.net/ \n  \n【開催場所】 \n当店シンクプレイスカワグチ \nLINE @think-place-k\nHP https://thinkplace.testweb.tech\nfacebook @ThinkPlaceK\n電話番号048-229-2696\n埼玉県川口市里1225-1 \n※最寄り駅は、地下鉄南北線直通、埼玉高速鉄道「鳩ヶ谷駅」から徒歩4分 mellowcafesさん隣り。\nお車の方はご相談ください。\n近隣にコインパーキングもあります！
URL:https://thinkplace.testweb.tech/event/%ef%bc%93%e6%97%a5%e9%96%93%e9%96%8b%e5%82%ac%ef%bd%9e%e3%82%86%e3%82%8a%e3%81%8b%e3%81%94%e6%89%8b%e8%8a%b8%e3%81%b6%e3%81%85%e3%81%95%e3%82%93%e3%83%bb%e3%82%ab%e3%82%a8%e3%83%ab%e3%81%ae%e3%81%8a/
LOCATION:埼玉県
END:VEVENT
BEGIN:VEVENT
DTSTART;TZID=Asia/Tokyo:20200319T100000
DTEND;TZID=Asia/Tokyo:20200319T130000
DTSTAMP:20260420T133134
CREATED:20200311T043827Z
LAST-MODIFIED:20200311T043827Z
UID:1350-1584612000-1584622800@thinkplace.testweb.tech
SUMMARY:～ＭＡＤＯＫＡ円香～大堀樹里さんによる【花粉症のハーブブレンド講座】
DESCRIPTION:【日時】3月19日(木)\n10時半〜12時\n少人数で規模を縮小して開催♪\nお子様も一緒に参加できます😊キッズスペース有。\n講座受講費も、主催者様の方から500円引き、シンクプレイスの方から500円引きとなり、1000円引きの、なんと500円で受講できます✨\nハーブは、生活の木のオーガニックハーブが割引価格で購入できます。\n【価格】\n・１週間お試し　700円\n・3ヶ月しっかり　2800円（4000円相当のハーブをボトルに詰められて、こちらかなりお得です！） .\n手のアルコール消毒、マスク、ビニール手袋を着用でのブレンド、抗ウイルス対策のアロマ加湿と、感染対策万全で行います。\n \n※ご予約やお問い合わせは主催者様、当店のどちらからでもお受けできます！ \n【主催者様情報】 \n日本アロマ環境協会認定インストラクター　大堀樹里さん \nsweet_aroma_j@yahoo.co.jp \nアロマ&タッチケアスクール円香\nHP https://aromatouch-madoka.jimdosite.com \nブログ\nhttps://ameblo.jp/aromamadoka/ \n【開催場所】 \n当店シンクプレイスカワグチ \nLINE @think-place-k\nHP https://thinkplace.testweb.tech\nfacebook @ThinkPlaceK\n電話番号048-229-2696\n埼玉県川口市里1225-1\n※最寄り駅は、地下鉄南北線直通、埼玉高速鉄道「鳩ヶ谷駅」から徒歩4分 mellowcafesさん隣り。 \nキッズスペース有ます♪\nお車の方はご相談ください。\n近隣にコインパーキングもあります！
URL:https://thinkplace.testweb.tech/event/%ef%bd%9e%ef%bd%8d%ef%bd%81%ef%bd%84%ef%bd%8f%ef%bd%8b%ef%bd%81%e5%86%86%e9%a6%99%ef%bd%9e%e5%a4%a7%e5%a0%80%e6%a8%b9%e9%87%8c%e3%81%95%e3%82%93%e3%81%ab%e3%82%88%e3%82%8b%e3%80%90%e8%8a%b1%e7%b2%89/
LOCATION:埼玉県
END:VEVENT
BEGIN:VEVENT
DTSTART;TZID=Asia/Tokyo:20200319T100000
DTEND;TZID=Asia/Tokyo:20200319T130000
DTSTAMP:20260420T133134
CREATED:20200213T043434Z
LAST-MODIFIED:20200304T065250Z
UID:1296-1584612000-1584622800@thinkplace.testweb.tech
SUMMARY:【中止】～ＪｕｎｉＱ～町田 麻美さんによる【スクラップブッキング　アルバムを作ろう　ワークショップ】
DESCRIPTION:
URL:https://thinkplace.testweb.tech/event/%e4%ba%88%e7%b4%84%e3%81%82%e3%82%8a/
LOCATION:埼玉県
END:VEVENT
BEGIN:VEVENT
DTSTART;TZID=Asia/Tokyo:20200316T100000
DTEND;TZID=Asia/Tokyo:20200316T130000
DTSTAMP:20260420T133134
CREATED:20191227T064429Z
LAST-MODIFIED:20200304T071456Z
UID:1155-1584352800-1584363600@thinkplace.testweb.tech
SUMMARY:【中止】～リアン～杉下 佳奈さんによる【TinyTeeth™️歯固め作りワークショップ】
DESCRIPTION:TinyTeeth認定講師～リアン～杉下 佳奈さんによる「歯固めアイテム作りワークショップ」です \n大人気の歯固めアイテム作りワークショップです。名前入りの世界で一つのオリジナル歯固めを作りませんか？我が子にも、プレゼントにも喜ばれる事間違いなしです！ \n《イベント詳細》\n日時：3/16(月)10:30～・11:30 ～・13:00～・14:00～ \n４部制　所要時間４０分（定員：各回10組様）\n参加費：3000円（ティータイム付き） \nシンクプレイスのラインお友達登録で500円ＯＦＦクーポン配信中♪ \n歯固め・オモチャホルダ―・シューズクリッパー・マルチクリップ・TSUNAGU制作可能です🎶 \n  \n \n※ご予約やお問い合わせは主催者様、当店のどちらからでもお受けできます！ \n【主催者様情報】 \n杉下　佳奈さん\nライン　@xrd8912u\nGmail　060sugi77@gmail.com\nブログ　https://ameblo.jp/1980kana1222/ \n  \n【開催場所】 \n当店シンクプレイスカワグチ \nLINE @think-place-k\nHP https://thinkplace.testweb.tech\nfacebook @ThinkPlaceK\n電話番号048-229-2696\n埼玉県川口市里1225-1 \n※最寄り駅は、地下鉄南北線直通、埼玉高速鉄道「鳩ヶ谷駅」から徒歩4分 mellowcafesさん隣り。\nお車の方はご相談ください。\n近隣にコインパーキングもあります！
URL:https://thinkplace.testweb.tech/event/1155/
LOCATION:埼玉県
END:VEVENT
BEGIN:VEVENT
DTSTART;TZID=Asia/Tokyo:20200312T100000
DTEND;TZID=Asia/Tokyo:20200312T130000
DTSTAMP:20260420T133134
CREATED:20200210T060620Z
LAST-MODIFIED:20200221T043432Z
UID:1268-1584007200-1584018000@thinkplace.testweb.tech
SUMMARY:～ＭＡＤＯＫＡ円香～大堀樹里さんによる【フットトリートメント＆ゾーンセラピー講座】
DESCRIPTION:3月12日 （木） 10：30～12：00\n3000円＋教材費850円\n（シンクプレイスさんのお友達登録で更に500円割引！）\n\n\n\n\nアロマのトリートメントオイルで、むくみをとるフットトリートメントと、足ツボマッサージを行います。肩こり、腰痛など不調を改善し、心身共にリフレッシュしましょう！！ \nオイルはご自身でブレンド！\n痩身ブレンド、冷え症ブレンドからお選び頂けます。 \n作成するオイルは２５ｍｌ。ブレンドしたオイルはお持ち帰り頂けます。 \nOLさん、ママさん、シニアの方、全ての方に向く講座です。\nアロマテラピーについて何も知らないよ、という方も、アドバイザークラスの資格をお持ちの方も、満足頂ける内容になっています。 \n\n\n\n \n（持ち物）\n座布団\nバスタオル\n筆記用具\n飲み物\n膝までまくれるお洋服、もしくはお着換えをお持ち下さい。\n指の腹を使った手技がありますので、爪を短く整えていらして下さい。 \n\n\n\n\n\n\n\n\n\n\n\n※ご予約やお問い合わせは主催者様、当店のどちらからでもお受けできます！\n\n\n\n\n\n【主催者様情報】 \n日本アロマ環境協会認定インストラクター　大堀樹里さん \nアロマ&タッチケアスクール円香\nHP https://aromatouch-madoka.jimdosite.com \nブログ\nhttps://ameblo.jp/aromamadoka/ \nmail\nsweet_aroma_j@yahoo.co.jp \n  \n【開催場所】 \n当店シンクプレイスカワグチ \nLINE @think-place-k\nHP https://thinkplace.testweb.tech\nfacebook @ThinkPlaceK\n電話番号048-229-2696\n埼玉県川口市里1225-1\n※最寄り駅は、地下鉄南北線直通、埼玉高速鉄道「鳩ヶ谷駅」から徒歩4分 mellowcafesさん隣り。\nお車の方はご相談ください。\n近隣にコインパーキングもあります！
URL:https://thinkplace.testweb.tech/event/%ef%bd%9e%ef%bd%8d%ef%bd%81%ef%bd%84%ef%bd%8f%ef%bd%8b%ef%bd%81%e5%86%86%e9%a6%99%ef%bd%9e%e5%a4%a7%e5%a0%80%e6%a8%b9%e9%87%8c%e3%81%95%e3%82%93%e3%81%ab%e3%82%88%e3%82%8b%e3%80%90%e3%82%a2%e3%83%ad-2/
LOCATION:埼玉県
END:VEVENT
BEGIN:VEVENT
DTSTART;TZID=Asia/Tokyo:20200309T110000
DTEND;TZID=Asia/Tokyo:20200309T140000
DTSTAMP:20260420T133134
CREATED:20200213T043736Z
LAST-MODIFIED:20200304T070114Z
UID:1301-1583751600-1583762400@thinkplace.testweb.tech
SUMMARY:第３回　主催者さん向けお茶会ミーティング
DESCRIPTION:第３回　主催者さん向けお茶会ミーティング \n今回３回目になります主催者様向けお茶会です！\n毎月１回、主催者様お茶会交流会を開催したいと思いますので、交流を深め、ジョイント企画や、相互の集客確保、情報交換の場にして頂けたらと思います！ \n【３月お茶会詳細】\n開催場所：当店(Think Place Kawaguchi)\n日時：2020年３月９日(月)　11時～13時の二時間程度を予定。\n(当店でお茶を用意いたします。（費用は無料）) \n※当店はストリーマ空気清浄機付きの「加湿空気清浄機」と手指消毒用のアルコールスプレーを常時ご用意して、いつも皆さまを清潔にお迎えするようここがけています。\n(担当：國府田) \n \n♪第２回お茶会ミーティングの様子♪
URL:https://thinkplace.testweb.tech/event/%e7%ac%ac%ef%bc%93%e5%9b%9e%e3%80%80%e4%b8%bb%e5%82%ac%e8%80%85%e3%81%95%e3%82%93%e5%90%91%e3%81%91%e3%81%8a%e8%8c%b6%e4%bc%9a%e3%83%9f%e3%83%bc%e3%83%86%e3%82%a3%e3%83%b3%e3%82%b0/
LOCATION:埼玉県
END:VEVENT
BEGIN:VEVENT
DTSTART;TZID=Asia/Tokyo:20200305T100000
DTEND;TZID=Asia/Tokyo:20200305T130000
DTSTAMP:20260420T133134
CREATED:20200130T025159Z
LAST-MODIFIED:20200212T074221Z
UID:1209-1583402400-1583413200@thinkplace.testweb.tech
SUMMARY:大平舞さんによる【イスでヨガレッスン】
DESCRIPTION:イスに座ってヨガをやってみませんか？\n冬の間寒さで縮こまってしまった身体を気持ちよく伸ばし緩めていきます。\n身体が硬い、と思っている方でもムリなくポーズがとれるのでオススメです！\nお子様連れの参加も大丈夫です。 \n日時 3月5日(木)\n・10:30〜11:30\n・11:45〜12:45\n各回6名様まで \n参加費：1000円 \nシンクプレイスのラインお友達登録で500円ＯＦＦクーポン配信中♪\nティータイム付きです。 \n持ち物は特にありません。\n動きやすい服装でお越しください。\n(更衣室はありません) \n \n \n※ご予約やお問い合わせは主催者様、当店のどちらからでもお受けできます！ \n【主催者様情報】 \n大平 舞さん \n柔道整復師\nヨガセラピスト協会認定\nヨガセラピスト \nご予約はLINE@jsl1214qまで \n  \n【開催場所】 \n当店シンクプレイスカワグチ \nLINE @think-place-k\nHP https://thinkplace.testweb.tech\nfacebook @ThinkPlaceK\n電話番号048-229-2696\n埼玉県川口市里1225-1\n※最寄り駅は、地下鉄南北線直通、埼玉高速鉄道「鳩ヶ谷駅」から徒歩4分 mellowcafesさん隣り。\nお車の方はご相談ください。\n近隣にコインパーキングもあります！
URL:https://thinkplace.testweb.tech/event/%e5%a4%a7%e5%b9%b3%e8%88%9e%e3%81%95%e3%82%93%e3%81%ab%e3%82%88%e3%82%8b%ef%bd%9e%e3%82%a4%e3%82%b9%e3%81%a7%e3%83%a8%e3%82%ac%e3%83%ac%e3%83%83%e3%82%b9%e3%83%b3%ef%bd%9e/
LOCATION:埼玉県
END:VEVENT
BEGIN:VEVENT
DTSTART;TZID=Asia/Tokyo:20200304T100000
DTEND;TZID=Asia/Tokyo:20200304T130000
DTSTAMP:20260420T133134
CREATED:20200203T025108Z
LAST-MODIFIED:20200302T011130Z
UID:1217-1583316000-1583326800@thinkplace.testweb.tech
SUMMARY:【中止】田上 多佳奈さんによる【ハーバリウム 体験】
DESCRIPTION:3月4日(水) \n¥2000(材料費込み) \nシンクプレイスのラインお友達登録で500円ＯＦＦクーポン配信中♪ \n1部　10:30〜11:30\n2部　11:30〜12:30 \nたくさんのお花、たくさんの色を見て触れるだけでもストレス解消になると言われています。\nお花に癒されながらオリジナルハーバリウム を作りましょう！ \n  \n※ご予約やお問い合わせは主催者様、当店のどちらからでもお受けできます！ \n  \n【主催者様情報】 \nフラワーハーバリウム認定講師　田上 多佳奈さん \n予約、お問い合わせtakana0909@hotmail.co.jp \n作品、お知らせ等instagram.com/irodori.smile100 \n  \n【開催場所】 \n当店シンクプレイスカワグチ \nLINE @think-place-k\nHP https://thinkplace.testweb.tech\nfacebook @ThinkPlaceK\n電話番号048-229-2696\n埼玉県川口市里1225-1\n※最寄り駅は、地下鉄南北線直通、埼玉高速鉄道「鳩ヶ谷駅」から徒歩4分 mellowcafesさん隣り。\nお車の方はご相談ください。\n近隣にコインパーキングもあります！
URL:https://thinkplace.testweb.tech/event/%e4%ba%88%e7%b4%84%e6%9c%89%e3%82%8a/
LOCATION:Think Place Kawaguchi\, 里１２２５−１\, 川口市\, 埼玉県\, 〒334-0005\, Japan
END:VEVENT
BEGIN:VEVENT
DTSTART;TZID=Asia/Tokyo:20200227T100000
DTEND;TZID=Asia/Tokyo:20200227T130000
DTSTAMP:20260420T133134
CREATED:20200120T073217Z
LAST-MODIFIED:20200212T073712Z
UID:1180-1582797600-1582808400@thinkplace.testweb.tech
SUMMARY:～ryu.ryu.baby～大内侑希さんによる【ベビーマッサージワークショップ 】
DESCRIPTION:2/27(木)　10：30～12：30\nシンクプレイスのラインお友達登録で500円ＯＦＦクーポン配信中♪\n通常2000円のところ500円引きの1500円です🎶\nリピーター様は1000円のところ500円🤗\nおやつとドリンク、ベビマ中のお写真も付きますので、とーってもお得です❤️❤️\n遊びにいらしてください🤭💞\n \n※ご予約やお問い合わせは主催者様、当店のどちらからでもお受けできます！ \n\n【主催者様情報】 \nＲＴＡ認定講師　大内侑希さん \n川口市ベビーマッサージおうち教室\n【ryu.ryu.baby~リュリュベビー~】\n @ryu.ryu.baby\n LINE@ 『@qux2577v』\n ryu.ryu.baby.1006@gmail.com\n048-278-4104\n【開催場所】 \n当店シンクプレイスカワグチ \nLINE @think-place-k\nHP https://thinkplace.testweb.tech\nfacebook @ThinkPlaceK\n電話番号048-229-2696\n埼玉県川口市里1225-1\n※最寄り駅は、地下鉄南北線直通、埼玉高速鉄道「鳩ヶ谷駅」から徒歩4分 mellowcafesさん隣り。\nお車の方はご相談ください。\n近隣にコインパーキングもあります！
URL:https://thinkplace.testweb.tech/event/%ef%bd%9eryu-ryu-baby%ef%bd%9e%e5%a4%a7%e5%86%85%e4%be%91%e5%b8%8c%e3%81%95%e3%82%93%e3%81%ab%e3%82%88%e3%82%8b%e3%80%90%e3%83%99%e3%83%93%e3%83%bc%e3%83%9e%e3%83%83%e3%82%b5%e3%83%bc%e3%82%b8/
LOCATION:Think Place Kawaguchi\, 里１２２５−１\, 川口市\, 埼玉県\, 〒334-0005\, Japan
END:VEVENT
BEGIN:VEVENT
DTSTART;TZID=Asia/Tokyo:20200226T130000
DTEND;TZID=Asia/Tokyo:20200226T170000
DTSTAMP:20260420T133134
CREATED:20200123T063532Z
LAST-MODIFIED:20200128T020848Z
UID:1198-1582722000-1582736400@thinkplace.testweb.tech
SUMMARY:予約有り
DESCRIPTION:
URL:https://thinkplace.testweb.tech/event/%e3%82%ab%e3%83%bc%e3%83%96%e3%82%b9%e6%a7%98%e3%80%80%e5%8b%89%e5%bc%b7%e4%bc%9a-7/
LOCATION:埼玉県
END:VEVENT
BEGIN:VEVENT
DTSTART;TZID=Asia/Tokyo:20200226T100000
DTEND;TZID=Asia/Tokyo:20200226T130000
DTSTAMP:20260420T133134
CREATED:20200210T050127Z
LAST-MODIFIED:20200210T050127Z
UID:1245-1582711200-1582722000@thinkplace.testweb.tech
SUMMARY:予約有り
DESCRIPTION:
URL:https://thinkplace.testweb.tech/event/%e4%ba%88%e7%b4%84%e6%9c%89%e3%82%8a-6/
LOCATION:埼玉県
END:VEVENT
BEGIN:VEVENT
DTSTART;TZID=Asia/Tokyo:20200225T100000
DTEND;TZID=Asia/Tokyo:20200225T130000
DTSTAMP:20260420T133134
CREATED:20200130T025258Z
LAST-MODIFIED:20200212T073448Z
UID:1212-1582624800-1582635600@thinkplace.testweb.tech
SUMMARY:～atelier nalunani～音羽美波さんによる【ハーバリウムワークショップ 】
DESCRIPTION:～atelier nalunani～音羽美波さんによる【ハーバリウムワークショップ 】 \n〈日時〉\n2020/2/25(火) \n10:00〜13:00 \n〈参加費〉\n●ハーバリウム Sサイズ 1500円\n●ハーバリウム Mサイズ 2\,000円\n●ハーバリウムボールペン 1\,500円 \nシンクプレイスのラインお友達登録で500円ＯＦＦクーポン配信中♪ \n〈作業時間〉\n30〜45分 \n〈持ち物〉\n汚れが気になる方はエプロンをお持ち下さい。 \n \n※ご予約やお問い合わせは主催者様、当店のどちらからでもお受けできます！ \n【主催者様情報】 \natelier nalunani　音羽美波さん\nLINE(@cww3116s)又は、\nInstagram(#atelier_nalunani )DMまで \n  \n【開催場所】 \n当店シンクプレイスカワグチ \nLINE @think-place-k\nHP https://thinkplace.testweb.tech\nfacebook @ThinkPlaceK\n電話番号048-229-2696\n埼玉県川口市里1225-1\n※最寄り駅は、地下鉄南北線直通、埼玉高速鉄道「鳩ヶ谷駅」から徒歩4分 mellowcafesさん隣り。\nお車の方はご相談ください。\n近隣にコインパーキングもあります！
URL:https://thinkplace.testweb.tech/event/%ef%bd%9eatelier-nalunani%ef%bd%9e%e9%9f%b3%e7%be%bd%e7%be%8e%e6%b3%a2%e3%81%95%e3%82%93%e3%81%ab%e3%82%88%e3%82%8b%e3%80%90%e3%83%8f%e3%83%bc%e3%83%90%e3%83%aa%e3%82%a6%e3%83%a0%e3%83%af%e3%83%bc-3/
LOCATION:Think Place Kawaguchi\, 里１２２５−１\, 川口市\, 埼玉県\, 〒334-0005\, Japan
END:VEVENT
BEGIN:VEVENT
DTSTART;TZID=Asia/Tokyo:20200218T100000
DTEND;TZID=Asia/Tokyo:20200218T150000
DTSTAMP:20260420T133134
CREATED:20191227T064128Z
LAST-MODIFIED:20200212T073322Z
UID:1151-1582020000-1582038000@thinkplace.testweb.tech
SUMMARY:～リアン～杉下 佳奈さんによる【TinyTeeth™️歯固め作りワークショップ】
DESCRIPTION:TinyTeeth認定講師～リアン～杉下 佳奈さんによる「歯固めアイテム作りワークショップ」です \n大人気の歯固めアイテム作りワークショップです。名前入りの世界で一つのオリジナル歯固めを作りませんか？我が子にも、プレゼントにも喜ばれる事間違いなしです！ \n《イベント詳細》\n日時：2/18(火)10:00～・11:00 ～・13:00～・14:00～ \n４部制　所要時間４０分（定員：午前10組様、午後10組様）\n参加費：3000円（ティータイム付き） \nシンクプレイスのラインお友達登録で500円ＯＦＦクーポン配信中♪ \n歯固め・オモチャホルダ―・シューズクリッパー・マルチクリップ・TSUNAGU制作可能です🎶 \n  \n \n✉️詳細お問い合わせ✉️\n主催者様\nライン→@xrd8912u（佳奈）さん又は、\nGmail→060sugi77@gmail.com　(杉下)　さん又は、\nブログ→https://ameblo.jp/1980kana1222/ (杉下)さんまで。 \n開催場所当店：シンクプレイスカワグチ（担当　國府田）\n( @thinkplacekawaguchi )\n公式LINE @think-place-K\nHP https://thinkplace.testweb.tech\n電話番号048-229-2696\n埼玉県川口市里1225-1\n※最寄り駅は、地下鉄南北線直通、埼玉高速鉄道「鳩ヶ谷駅」から徒歩4分 mellowcafesさん隣り\nお車の方は、ご相談ください。近隣にコインパーキングもあります。
URL:https://thinkplace.testweb.tech/event/%ef%bd%9e%e3%83%aa%e3%82%a2%e3%83%b3%ef%bd%9e%e6%9d%89%e4%b8%8b-%e4%bd%b3%e5%a5%88%e3%81%95%e3%82%93%e3%81%ab%e3%82%88%e3%82%8b%e3%80%90%e3%80%91/
LOCATION:Think Place Kawaguchi\, 里１２２５−１\, 川口市\, 埼玉県\, 〒334-0005\, Japan
END:VEVENT
BEGIN:VEVENT
DTSTART;TZID=Asia/Tokyo:20200217T100000
DTEND;TZID=Asia/Tokyo:20200217T170000
DTSTAMP:20260420T133134
CREATED:20200123T063501Z
LAST-MODIFIED:20200128T015240Z
UID:1196-1581933600-1581958800@thinkplace.testweb.tech
SUMMARY:予約有り
DESCRIPTION:
URL:https://thinkplace.testweb.tech/event/%e3%82%ab%e3%83%bc%e3%83%96%e3%82%b9%e6%a7%98%e3%80%80%e5%8b%89%e5%bc%b7%e4%bc%9a-6/
LOCATION:埼玉県
END:VEVENT
BEGIN:VEVENT
DTSTART;TZID=Asia/Tokyo:20200214T100000
DTEND;TZID=Asia/Tokyo:20200214T170000
DTSTAMP:20260420T133134
CREATED:20200123T063432Z
LAST-MODIFIED:20200128T020759Z
UID:1194-1581674400-1581699600@thinkplace.testweb.tech
SUMMARY:予約有り
DESCRIPTION:
URL:https://thinkplace.testweb.tech/event/%e3%82%ab%e3%83%bc%e3%83%96%e3%82%b9%e6%a7%98%e3%80%80%e5%8b%89%e5%bc%b7%e4%bc%9a-5/
LOCATION:埼玉県
END:VEVENT
BEGIN:VEVENT
DTSTART;TZID=Asia/Tokyo:20200213T110000
DTEND;TZID=Asia/Tokyo:20200213T130000
DTSTAMP:20260420T133134
CREATED:20200120T075505Z
LAST-MODIFIED:20200210T052954Z
UID:1182-1581591600-1581598800@thinkplace.testweb.tech
SUMMARY:第２回　主催者さん向けお茶会ミーティング
DESCRIPTION:第２回　主催者さん向けお茶会ミーティング \n先月からはじまりました主催者様向けお茶会です！\n毎月１回、主催者様お茶会交流会を開催したいと思いますので、交流を深め、ジョイント企画や、相互の集客確保、情報交換の場にして頂けたらと思います！ \n【２月お茶会詳細】\n開催場所：当店(Think Place Kawaguchi)\n日時：2020年2月13日(木)　11時～13時の二時間程度を予定。\n(当店でお茶を用意いたします。（費用は無料）)\n※お子様連れＯＫです。お車でお越しの際はご連絡下さい。(担当：國府田) \n \n※前回開催の様子♪
URL:https://thinkplace.testweb.tech/event/%e7%ac%ac%ef%bc%92%e5%9b%9e%e3%80%80%e4%b8%bb%e5%82%ac%e8%80%85%e3%81%95%e3%82%93%e5%90%91%e3%81%91%e3%81%8a%e8%8c%b6%e4%bc%9a%e3%83%9f%e3%83%bc%e3%83%86%e3%82%a3%e3%83%b3%e3%82%b0/
LOCATION:Think Place Kawaguchi\, 里１２２５−１\, 川口市\, 埼玉県\, 〒334-0005\, Japan
END:VEVENT
BEGIN:VEVENT
DTSTART;TZID=Asia/Tokyo:20200212T100000
DTEND;TZID=Asia/Tokyo:20200212T170000
DTSTAMP:20260420T133134
CREATED:20200123T063410Z
LAST-MODIFIED:20200128T020825Z
UID:1192-1581501600-1581526800@thinkplace.testweb.tech
SUMMARY:予約有り
DESCRIPTION:
URL:https://thinkplace.testweb.tech/event/%e3%82%ab%e3%83%bc%e3%83%96%e3%82%b9%e6%a7%98%e3%80%80%e5%8b%89%e5%bc%b7%e4%bc%9a-4/
LOCATION:埼玉県
END:VEVENT
BEGIN:VEVENT
DTSTART;TZID=Asia/Tokyo:20200210T100000
DTEND;TZID=Asia/Tokyo:20200210T170000
DTSTAMP:20260420T133134
CREATED:20200123T063350Z
LAST-MODIFIED:20200128T020908Z
UID:1190-1581328800-1581354000@thinkplace.testweb.tech
SUMMARY:予約有り
DESCRIPTION:
URL:https://thinkplace.testweb.tech/event/%e3%82%ab%e3%83%bc%e3%83%96%e3%82%b9%e6%a7%98%e3%80%80%e5%8b%89%e5%bc%b7%e4%bc%9a-3/
LOCATION:Think Place Kawaguchi\, 里１２２５−１\, 川口市\, 埼玉県\, 〒334-0005\, Japan
END:VEVENT
BEGIN:VEVENT
DTSTART;TZID=Asia/Tokyo:20200205T100000
DTEND;TZID=Asia/Tokyo:20200205T120000
DTSTAMP:20260420T133134
CREATED:20191227T063738Z
LAST-MODIFIED:20200109T074436Z
UID:1147-1580896800-1580904000@thinkplace.testweb.tech
SUMMARY:～リアン～杉下 佳奈さんによる【ひな祭り手形足形アート】
DESCRIPTION:2/５ (水)　【親子で作るひな祭り手形足型アート👣】 \npetapetaアドバイザーで、TinyTeeth™️歯固めジュエリー認定講師でもある杉下佳奈 さんによるワークショップです♪ \n赤ちゃんから小学生のお子さまも【今】を残す手形足型アートです！ハーフバースディ・バースディ記念にも喜ばれます。贈り物にも最適です。 \n《イベント詳細》\n10:00-10:40／10:40-11:20／11:20-12:00 （定員：毎回3組様）\n参加費：2600円（ティータイム付き） \n✉️詳細お問い合わせ✉️\n主催者様\nライン→@xrd8912u（佳奈）さん又は、\nGmail→060sugi77@gmail.com　(杉下)　さん又は、\nブログ→https://ameblo.jp/1980kana1222/ (杉下)さんまで。 \n開催場所当店：シンクプレイスカワグチ（担当　國府田）\n( @thinkplacekawaguchi )\n公式LINE @think-place-K\nHP https://thinkplace.testweb.tech\n電話番号048-229-2696\n埼玉県川口市里1225-1\n※最寄り駅は、地下鉄南北線直通、埼玉高速鉄道「鳩ヶ谷駅」から徒歩4分 mellowcafesさん隣り\nお車の方は、ご相談ください。近隣にコインパーキングもあります。
URL:https://thinkplace.testweb.tech/event/%e3%81%b2%e3%81%aa%e7%a5%ad%e3%82%8a%e6%89%8b%e5%bd%a2%e8%b6%b3%e5%bd%a2%e3%82%a2%e3%83%bc%e3%83%88/
LOCATION:埼玉県
END:VEVENT
BEGIN:VEVENT
DTSTART;TZID=Asia/Tokyo:20200129T130000
DTEND;TZID=Asia/Tokyo:20200129T170000
DTSTAMP:20260420T133134
CREATED:20200123T063320Z
LAST-MODIFIED:20200128T020927Z
UID:1188-1580302800-1580317200@thinkplace.testweb.tech
SUMMARY:予約有り
DESCRIPTION:
URL:https://thinkplace.testweb.tech/event/%e3%82%ab%e3%83%bc%e3%83%96%e3%82%b9%e6%a7%98%e3%80%80%e5%8b%89%e5%bc%b7%e4%bc%9a-2/
LOCATION:Think Place Kawaguchi\, 里１２２５−１\, 川口市\, 埼玉県\, 〒334-0005\, Japan
END:VEVENT
BEGIN:VEVENT
DTSTART;TZID=Asia/Tokyo:20200127T110000
DTEND;TZID=Asia/Tokyo:20200128T150000
DTSTAMP:20260420T133134
CREATED:20191217T063644Z
LAST-MODIFIED:20200109T073611Z
UID:1128-1580122800-1580223600@thinkplace.testweb.tech
SUMMARY:～ゆりかご手芸ぶぅさん・カエルのおやこさん主催～【Handmade Market】
DESCRIPTION:ゆりかご手芸ぶぅさん＆カエルのおやこさんの【Handmade　Market】がきますよ～♪ \n「ゆりかご手芸ぶぅ」は、学用品をはじめ、ベビー用品、大人小物、アクセサリーを。そして、「カエルのおやこ」はかぎ針作品(バッグ、ニット帽、ブローチなど)などを販売します😊🌼 \n 開催日：1月27日（月）・1月28日（火）※2日連続開催!!\n 時　間：１１：００～１５：００\n 場　所：Think Place Kawaguchi（鳩ヶ谷駅徒歩４分、Mellow Cafeさん隣） \nシンクプレイスカワグチ\n Instagram @thinkplacekawaguchi\n LINE @think-place-k\n facebook @Think Place K\n 電話番号048-229-2696 \n ◇お子様連れでも大丈夫！キッズスペース有ります。\n ◇近隣にコインパーキング有り \nゆりかご手芸ぶぅさんのページ↓\n https://www.facebook.com/yurikagoshugeiboo/\n .\n カエルのおやこさんのページ↓\n https://www.facebook.com/kaerunooyako/ \n \n \n \n \n 
URL:https://thinkplace.testweb.tech/event/%ef%bd%9e%e3%82%86%e3%82%8a%e3%81%8b%e3%81%94%e6%89%8b%e8%8a%b8%e3%81%b6%e3%81%85%e3%81%95%e3%82%93%e3%83%bb%e3%82%ab%e3%82%a8%e3%83%ab%e3%81%ae%e3%81%8a%e3%82%84%e3%81%93%e3%81%95%e3%82%93%e4%b8%bb/
LOCATION:Think Place Kawaguchi\, 里１２２５−１\, 川口市\, 埼玉県\, 〒334-0005\, Japan
END:VEVENT
BEGIN:VEVENT
DTSTART;TZID=Asia/Tokyo:20200123T130000
DTEND;TZID=Asia/Tokyo:20200123T170000
DTSTAMP:20260420T133134
CREATED:20200123T063242Z
LAST-MODIFIED:20200128T020945Z
UID:1186-1579784400-1579798800@thinkplace.testweb.tech
SUMMARY:予約有り
DESCRIPTION:
URL:https://thinkplace.testweb.tech/event/%e3%82%ab%e3%83%bc%e3%83%96%e3%82%b9%e6%a7%98%e3%80%80%e5%8b%89%e5%bc%b7%e4%bc%9a/
LOCATION:Think Place Kawaguchi\, 里１２２５−１\, 川口市\, 埼玉県\, 〒334-0005\, Japan
END:VEVENT
BEGIN:VEVENT
DTSTART;TZID=Asia/Tokyo:20200121T100000
DTEND;TZID=Asia/Tokyo:20200121T120000
DTSTAMP:20260420T133134
CREATED:20191224T062943Z
LAST-MODIFIED:20191225T013359Z
UID:1140-1579600800-1579608000@thinkplace.testweb.tech
SUMMARY:～リアン～杉下 佳奈さんによる【TinyTeeth™️歯固め作りワークショップ】
DESCRIPTION:TinyTeeth認定講師～リアン～杉下 佳奈さんによる「歯固め作りワークショップ」です \n大人気の歯固めジュエリーワークショップです。名前入りの世界で一つのオリジナル歯固めを作りませんか？我が子にも、プレゼントにも喜ばれる事間違いなしです！ \n《イベント詳細》\n日時：1/21(火)\n10:00-12:00 （定員：10組様）\n参加費：3000円（ティータイム付き） \n歯固め・オモチャホルダ―・シューズクリッパー・マルチクリップ・TSUNAGU制作可能です🎶 \n \n  \n❇️詳細お問い合わせ\n主催者様 \nライン@xrd8912u（佳奈）さん又は、 \n060sugi77@gmail.com　(杉下)　さん又は、 \nhttps://ameblo.jp/1980kana1222/  (杉下)さんまで。 \n  \n❇️開催場所\nシンクプレイスカワグチ\nInstagram @thinkplacekawaguchi\nLINE @think-place-k\nfacebook @Think Place K\n電話番号048-229-2696 \n※最寄り駅は、地下鉄南北線直通、埼玉高速鉄道「鳩ヶ谷駅」から徒歩4分 mellowcafeさん隣り\nお車の方は、ご相談ください。近隣にコインパーキングもあります。
URL:https://thinkplace.testweb.tech/event/%ef%bd%9e%e3%83%aa%e3%82%a2%e3%83%b3%ef%bd%9e/
LOCATION:Think Place Kawaguchi\, 里１２２５−１\, 川口市\, 埼玉県\, 〒334-0005\, Japan
END:VEVENT
BEGIN:VEVENT
DTSTART;TZID=Asia/Tokyo:20200120T120000
DTEND;TZID=Asia/Tokyo:20200120T140000
DTSTAMP:20260420T133134
CREATED:20200120T075614Z
LAST-MODIFIED:20200120T075614Z
UID:1184-1579521600-1579528800@thinkplace.testweb.tech
SUMMARY:第１回　主催者さん向けランチミーティング
DESCRIPTION:
URL:https://thinkplace.testweb.tech/event/%e7%ac%ac%ef%bc%91%e5%9b%9e%e3%80%80%e4%b8%bb%e5%82%ac%e8%80%85%e3%81%95%e3%82%93%e5%90%91%e3%81%91%e3%83%a9%e3%83%b3%e3%83%81%e3%83%9f%e3%83%bc%e3%83%86%e3%82%a3%e3%83%b3%e3%82%b0/
LOCATION:埼玉県
END:VEVENT
BEGIN:VEVENT
DTSTART;TZID=Asia/Tokyo:20191223T100000
DTEND;TZID=Asia/Tokyo:20191223T120000
DTSTAMP:20260420T133134
CREATED:20191112T071141Z
LAST-MODIFIED:20191120T015807Z
UID:1070-1577095200-1577102400@thinkplace.testweb.tech
SUMMARY:～リアン～杉下 佳奈さんによる【TinyTeeth™️歯固め作りワークショップ】
DESCRIPTION:TinyTeeth認定講師～リアン～杉下 佳奈さんによる「歯固め作りワークショップ」です \n大人気の歯固めジュエリーワークショップです。名前入りの世界で一つのオリジナル歯固めを作りませんか？我が子にも、プレゼントにも喜ばれる事間違いなしです！ \n《イベント詳細》\n日時：12/23(月)\n10:00-12:00 （定員：5組様）\n参加費：3000円（ティータイム付き） \n歯固め・オモチャホルダ―・シューズクリッパー・マルチクリップ・TSUNAGU制作可能です🎶 \n \n❇️詳細お問い合わせ\n主催者様 \nライン@xrd8912u（佳奈）さん又は、 \n060sugi77@gmail.com　(杉下)　さん又は、 \nhttps://ameblo.jp/1980kana1222/  (杉下)さんまで。 \n  \n❇️開催場所\nシンクプレイスカワグチ\nInstagram @thinkplacekawaguchi\nLINE @think-place-k\nfacebook @Think Place K\n電話番号048-229-2696 \n※最寄り駅は、地下鉄南北線直通、埼玉高速鉄道「鳩ヶ谷駅」から徒歩4分 mellowcafeさん隣り\nお車の方は、ご相談ください。近隣にコインパーキングもあります。 \n  \n 
URL:https://thinkplace.testweb.tech/event/%ef%bd%9e%e3%83%aa%e3%82%a2%e3%83%b3%ef%bd%9e%e6%9d%89%e4%b8%8b-%e4%bd%b3%e5%a5%88%e3%81%95%e3%82%93%e3%81%ab%e3%82%88%e3%82%8b%e3%80%90tinyteeth%ef%b8%8f%e6%ad%af%e5%9b%ba%e3%82%81%e4%bd%9c/
LOCATION:Think Place Kawaguchi\, 里１２２５−１\, 川口市\, 埼玉県\, 〒334-0005\, Japan
ORGANIZER;CN="Think%20Place%20Kawaguchi":MAILTO:mail-ha-kochirae@think-place.net
END:VEVENT
BEGIN:VEVENT
DTSTART;TZID=Asia/Tokyo:20191211T100000
DTEND;TZID=Asia/Tokyo:20191211T120000
DTSTAMP:20260420T133134
CREATED:20191112T064306Z
LAST-MODIFIED:20191120T015908Z
UID:1064-1576058400-1576065600@thinkplace.testweb.tech
SUMMARY:～リアン～杉下 佳奈さんによる【年賀状ベビーアートワークショップ】
DESCRIPTION:～リアン～杉下 佳奈さんによる「年賀状ベビーアートワークショップ」です \n来年の干支はネズミちゃんです。可愛く袴ロンパーやネズミちゃん衣装で可愛らしく成長姿を残しませんか？年賀状にも最適です。 \n《イベント詳細》\n日時：12/11 (水)\n10:00-10:30／10:30-11:00／11:00-11:30 ／11:30-12:00（定員：各回4組様）\n参加費：1000円　衣装レンタル300円（ティータイム付き） \n成長の記録を楽しく作りませんか🎶 \n \n  \n❇️詳細お問い合わせ\n主催者様 \nライン@xrd8912u（佳奈）さん又は、 \nhttps://ameblo.jp/1980kana1222/  (杉下)さんまで。 \n❇️開催場所\nシンクプレイスカワグチ\nInstagram @thinkplacekawaguchi\nLINE @think-place-k\nfacebook @Think Place K\n電話番号048-229-2696 \n※最寄り駅は、地下鉄南北線直通、埼玉高速鉄道「鳩ヶ谷駅」から徒歩4分 mellowcafeさん隣り\nお車の方は、ご相談ください。近隣にコインパーキングもあります。 \n  \n  \n 
URL:https://thinkplace.testweb.tech/event/%ef%bd%9e%e3%83%aa%e3%82%a2%e3%83%b3%ef%bd%9e%e6%9d%89%e4%b8%8b-%e4%bd%b3%e5%a5%88%e3%81%95%e3%82%93%e3%81%ab%e3%82%88%e3%82%8b%e3%80%90%e5%b9%b4%e8%b3%80%e7%8a%b6%e3%83%99%e3%83%93%e3%83%bc%e3%82%a2/
LOCATION:Think Place Kawaguchi\, 里１２２５−１\, 川口市\, 埼玉県\, 〒334-0005\, Japan
ORGANIZER;CN="Think%20Place%20Kawaguchi":MAILTO:mail-ha-kochirae@think-place.net
END:VEVENT
BEGIN:VEVENT
DTSTART;TZID=Asia/Tokyo:20191209T100000
DTEND;TZID=Asia/Tokyo:20191209T130000
DTSTAMP:20260420T133134
CREATED:20191127T051736Z
LAST-MODIFIED:20191127T051736Z
UID:1109-1575885600-1575896400@thinkplace.testweb.tech
SUMMARY:～atelier nalunani～音羽美波さんによる【ハーバリウムワークショップ 】
DESCRIPTION:～atelier nalunani～音羽美波さんによる【ハーバリウムワークショップ 】 \n〈日時〉\n2019/12/09(月) \n10:00〜13:00\n※予約の方優先になりますが、当日参加も大歓迎✨ \n〈参加費〉\n●ハーバリウム Sサイズ 1500円\n●ハーバリウム Mサイズ 2\,000円\n●ハーバリウムボールペン 1\,500円 \n〈作業時間〉\n30〜45分 \n〈持ち物〉\n汚れが気になる方はエプロンをお持ち下さい。 \n当日、小物入れや電卓等の販売もあり。\nプレゼント用にも是非おススメ💖\n・\nお問い合わせ・お申し込みは\n主催者さま\nLINE(@cww3116s)又は、\nInstagram(#atelier_nalunani )DMまで🎵\n・\n開催場所　当店：シンクプレイスカワグチ\nLINE @think-place-k\nHP https://thinkplace.testweb.tech\nfacebook @ThinkPlaceK\n電話番号048-229-2696\n埼玉県川口市里1225-1\n※最寄り駅は、地下鉄南北線直通、埼玉高速鉄道「鳩ヶ谷駅」から徒歩4分 mellowcafesさん隣り。\nお車の方はご相談ください。\n近隣にコインパーキングもあります。
URL:https://thinkplace.testweb.tech/event/%ef%bd%9eatelier-nalunani%ef%bd%9e%e9%9f%b3%e7%be%bd%e7%be%8e%e6%b3%a2%e3%81%95%e3%82%93%e3%81%ab%e3%82%88%e3%82%8b%e3%80%90%e3%83%8f%e3%83%bc%e3%83%90%e3%83%aa%e3%82%a6%e3%83%a0%e3%83%af%e3%83%bc/
LOCATION:Think Place Kawaguchi\, 里１２２５−１\, 川口市\, 埼玉県\, 〒334-0005\, Japan
ORGANIZER;CN="Think%20Place%20Kawaguchi":MAILTO:mail-ha-kochirae@think-place.net
END:VEVENT
BEGIN:VEVENT
DTSTART;TZID=Asia/Tokyo:20191203T100000
DTEND;TZID=Asia/Tokyo:20191203T130000
DTSTAMP:20260420T133134
CREATED:20191113T020117Z
LAST-MODIFIED:20191120T020106Z
UID:1084-1575367200-1575378000@thinkplace.testweb.tech
SUMMARY:～ＪｕｎｉＱ～町田 麻美さんによる【スクラップブッキング　アルバムを作ろう　ワークショップ】
DESCRIPTION:ペーパークラフト&フォトアルバムアドバイザー \n～ジュニーク～町田 麻美さんによる「スクラップブッキング　アルバムを作ろうワークショップ」です \nちょっとだけ面倒くさいと思っちゃうアルバム作りもペーパークラフト&フォトアルバムアドバイザー講師の町田さんとなら、簡単可愛いキットで素敵なページのアルバムを作れますよ～♪\nお子様に思い出を一緒に残しませんか♪ \n《イベント詳細》\n日時：12/3(火)\n10:00-13:00 （定員：5組様）\n参加費：1500円　ライン登録で1200円（ティータイム付き） \n12インチsize、2ページ分の材料費込みです。 \n持ち物：写真10枚程度持ってきて下さい🎶 \n \n  \n❇️詳細お問い合わせ❇️\n主催者様 \n公式ライン　@xgz6457b \nGmail　handmade.juniq@gmail.com \nインスタグラム　handmade.juniq \n町田さんまで。 \n❇️開催場所\nシンクプレイスカワグチ \nInstagram @thinkplacekawaguchi\nLINE @think-place-k\nfacebook @Think Place K\n電話番号048-229-2696 \n※最寄り駅は、地下鉄南北線直通、埼玉高速鉄道「鳩ヶ谷駅」から徒歩4分 mellowcafeさん隣り\nお車の方は、ご相談ください。近隣にコインパーキングもあります。 \n  \n 
URL:https://thinkplace.testweb.tech/event/%ef%bd%9e%ef%bd%8a%ef%bd%95%ef%bd%8e%ef%bd%89%ef%bd%91%ef%bd%9e%e7%94%ba%e7%94%b0-%e9%ba%bb%e7%be%8e%e3%81%95%e3%82%93%e3%81%ab%e3%82%88%e3%82%8b%e3%80%90%e3%82%b9%e3%82%af%e3%83%a9%e3%83%83%e3%83%97/
LOCATION:Think Place Kawaguchi\, 里１２２５−１\, 川口市\, 埼玉県\, 〒334-0005\, Japan
ORGANIZER;CN="Think%20Place%20Kawaguchi":MAILTO:mail-ha-kochirae@think-place.net
END:VEVENT
END:VCALENDAR